Workbook

Sheet 전체집계표
A1: 전체 편입용지 집계표
A3: 구 분 | B3: 총 계 | E3: 전북특별자치도 | H3: 비 고
E4: 부안군 하서면
E5: 주계리
B6: 필지 | C6: / | D6: 면적(㎡) | E6: 필지 | F6: / | G6: 면적(㎡)
A7: 계 | B7: =SUM(B8:B32) -> 95 | C7: / | D7: =SUM(D8:D32) -> 697008 | E7: =SUM(E8:E32) -> 95 | F7: / | G7: =SUM(G8:G32) -> 697008
A8: 전 | B8: =E8 -> 3 | C8: / | D8: =G8 -> 709 | E8: =집계표!$B7 -> 3 | F8: / | G8: =집계표!$D7 -> 709
A9: 답 | B9: =E9 -> 8 | C9: / | D9: =G9 -> 7338 | E9: =집계표!$B8 -> 8 | F9: / | G9: =집계표!$D8 -> 7338
A10: 임야 | B10: =E10 -> 19 | C10: / | D10: =G10 -> 7392 | E10: =집계표!$B9 -> 19 | F10: / | G10: =집계표!$D9 -> 7392
A11: 대지 | B11: =E11 -> 1 | C11: / | D11: =G11 -> 18 | E11: =집계표!$B10 -> 1 | F11: / | G11: =집계표!$D10 -> 18
A12: 도로 | B12: =E12 -> 61 | C12: / | D12: =G12 -> 21430 | E12: =집계표!$B11 -> 61 | F12: / | G12: =집계표!$D11 -> 21430
A13: 구거 | B13: =E13 -> 0 | C13: / | D13: =G13 -> 0 | E13: =집계표!$B12 -> 0 | F13: / | G13: =집계표!$D12 -> 0
A14: 하천 | B14: =E14 -> 0 | C14: / | D14: =G14 -> 0 | E14: =집계표!$B13 -> 0 | F14: / | G14: =집계표!$D13 -> 0
A15: 유지 | B15: =E15 -> 0 | C15: / | D15: =G15 -> 0 | E15: =집계표!$B14 -> 0 | F15: / | G15: =집계표!$D14 -> 0
A16: 제방 | B16: =E16 -> 0 | C16: / | D16: =G16 -> 0 | E16: =집계표!$B15 -> 0 | F16: / | G16: =집계표!$D15 -> 0
A17: 과수원 | B17: =E17 -> 0 | C17: / | D17: =G17 -> 0 | E17: =집계표!$B16 -> 0 | F17: / | G17: =집계표!$D16 -> 0
A18: 공장 | B18: =E18 -> 0 | C18: / | D18: =G18 -> 0 | E18: =집계표!$B17 -> 0 | F18: / | G18: =집계표!$D17 -> 0
A19: 목장 | B19: =E19 -> 0 | C19: / | D19: =G19 -> 0 | E19: =집계표!$B18 -> 0 | F19: / | G19: =집계표!$D18 -> 0
... A32: 무 지 번 | B32: =E32 -> 1 | C32: / | D32: =G32 -> 660039 | E32: =집계표!$B31 -> 1 | F32: / | G32: =집계표!$D31 -> 660039
A33: 국유지 편입용지 집계표
A35: 구 분 | B35: 총 계 | E35: 경상북도 | H35: 비 고
E36: 안동시 와룡면
E37: 주계리
B38: 필지 | C38: / | D38: 면적(㎡) | E38: 필지 | F38: / | G38: 면적(㎡)
A39: 계 | B39: =SUM(B40:B64) -> 65 | C39: / | D39: =SUM(D40:D64) -> 685831 | E39: =SUM(E40:E64) -> 65 | F39: / | G39: =SUM(G40:G64) -> 685831
A40: 전 | B40: =E40 -> 0 | C40: / | D40: =G40 -> 0 | E40: =집계표!$E7 -> 0 | F40: / | G40: =집계표!$G7 -> 0
A41: 답 | B41: =E41 -> 2 | C41: / | D41: =G41 -> 241 | E41: =집계표!$E8 -> 2 | F41: / | G41: =집계표!$G8 -> 241
A42: 임야 | B42: =E42 -> 14 | C42: / | D42: =G42 -> 6874 | E42: =집계표!$E9 -> 14 | F42: / | G42: =집계표!$G9 -> 6874
A43: 대지 | B43: =E43 -> 1 | C43: / | D43: =G43 -> 18 | E43: =집계표!$E10 -> 1 | F43: / | G43: =집계표!$G10 -> 18
A44: 도로 | B44: =E44 -> 46 | C44: / | D44: =G44 -> 18638 | E44: =집계표!$E11 -> 46 | F44: / | G44: =집계표!$G11 -> 18638
A45: 구거 | B45: =E45 -> 0 | C45: / | D45: =G45 -> 0 | E45: =집계표!$E12 -> 0 | F45: / | G45: =집계표!$G12 -> 0
A46: 하천 | B46: =E46 -> 0 | C46: / | D46: =G46 -> 0 | E46: =집계표!$E13 -> 0 | F46: / | G46: =집계표!$G13 -> 0
A47: 유지 | B47: =E47 -> 0 | C47: / | D47: =G47 -> 0 | E47: =집계표!$E14 -> 0 | F47: / | G47: =집계표!$G14 -> 0
A48: 제방 | B48: =E48 -> 0 | C48: / | D48: =G48 -> 0 | E48: =집계표!$E15 -> 0 | F48: / | G48: =집계표!$G15 -> 0
A49: 과수원 | B49: =E49 -> 0 | C49: / | D49: =G49 -> 0 | E49: =집계표!$E16 -> 0 | F49: / | G49: =집계표!$G16 -> 0
A50: 공장 | B50: =E50 -> 0 | C50: / | D50: =G50 -> 0 | E50: =집계표!$E17 -> 0 | F50: / | G50: =집계표!$G17 -> 0
A51: 목장 | B51: =E51 -> 0 | C51: / | D51: =G51 -> 0 | E51: =집계표!$E18 -> 0 | F51: / | G51: =집계표!$G18 -> 0
... A64: 무 지 번 | B64: =E64 -> 1 | C64: / | D64: =G64 -> 660039 | E64: =집계표!$E31 -> 1 | F64: / | G64: =집계표!$G31 -> 660039
A65: 공유지 편입용지 집계표
A67: 구 분 | B67: 총 계 | E67: 경상북도 | H67: 비 고
...

Sheet 집계표
A1: 편 입 용 지 집 계 표
A2: ○ 공사명 : 새만금 지역간 연결도로 건설공사(1공구) | N2: ='백련리(국공유지포함)'!K2 -> 전북특별자치도 부안군 하서면 백련리
A4: 구 분 | B4: 계 | E4: 국 유 지 | H4: 공 유 지 | K4: 사 유 지 | N4: 비고
B5: 필지 | C5: / | D5: 면 적 (㎡) | E5: 필지 | F5: / | G5: 면 적 (㎡) | H5: 필지 | I5: / | J5: 면 적 (㎡) | K5: 필지 | L5: / | M5: 면 적 (㎡)
A6: 계 | B6: =SUM(B7:B31) -> 95 | C6: / | D6: =SUM(D7:D31) -> 697008 | E6: =SUM(E7:E31) -> 65 | F6: / | G6: =SUM(G7:G31) -> 685831 | H6: =SUM(H7:H31) -> 12 | I6: / | J6: =SUM(J7:J31) -> 2572 | K6: =SUM(K7:K31) -> 18 | L6: / | M6: =SUM(M7:M31) -> 8605
A7: 전 | B7: =COUNTIF('백련리(국공유지포함)'!$C$7:$C$501,"전") -> 3 | C7: / | D7: =SUMIF('백련리(국공유지포함)'!$C$7:$C$501,"전",'백련리(국공유지포함)'!$E$7:$E$501) -> 709 | E7: =COUNTIF('백련리(국공유지포함)'!$L$7:$L$501,"전국") -> 0 | F7: / | G7: =SUMIF('백련리(국공유지포함)'!$L$7:$L$501,"전국",'백련리(국공유지포함)'!$E$7:$E$501) -> 0 | H7: =COUNTIF('백련리(국공유지포함)'!$L$7:$L$501,"전공") -> 0 | I7: / | J7: =SUMIF('백련리(국공유지포함)'!$L$7:$L$501,"전공",'백련리(국공유지포함)'!$E$7:$E$501) -> 0 | K7: =B7-E7-H7 -> 3 | L7: / | M7: =D7-G7-J7 -> 709
A8: 답 | B8: =COUNTIF('백련리(국공유지포함)'!$C$7:$C$501,"답") -> 8 | C8: / | D8: =SUMIF('백련리(국공유지포함)'!$C$7:$C$501,"답",'백련리(국공유지포함)'!$E$7:$E$501) -> 7338 | E8: =COUNTIF('백련리(국공유지포함)'!$L$7:$L$501,"답국") -> 2 | F8: / | G8: =SUMIF('백련리(국공유지포함)'!$L$7:$L$501,"답국",'백련리(국공유지포함)'!$E$7:$E$501) -> 241 | H8: =COUNTIF('백련리(국공유지포함)'!$L$7:$L$501,"답공") -> 0 | I8: / | J8: =SUMIF('백련리(국공유지포함)'!$L$7:$L$501,"답공",'백련리(국공유지포함)'!$E$7:$E$501) -> 0 | K8: =B8-E8-H8 -> 6 | L8: / | M8: =D8-G8-J8 -> 7097
A9: 임야 | B9: =COUNTIF('백련리(국공유지포함)'!$C$7:$C$501,"임") -> 19 | C9: / | D9: =SUMIF('백련리(국공유지포함)'!$C$7:$C$501,"임",'백련리(국공유지포함)'!$E$7:$E$501) -> 7392 | E9: =COUNTIF('백련리(국공유지포함)'!$L$7:$L$501,"임국") -> 14 | F9: / | G9: =SUMIF('백련리(국공유지포함)'!$L$7:$L$501,"임국",'백련리(국공유지포함)'!$E$7:$E$501) -> 6874 | H9: =COUNTIF('백련리(국공유지포함)'!$L$7:$L$501,"임공") -> 0 | I9: / | J9: =SUMIF('백련리(국공유지포함)'!$L$7:$L$501,"임공",'백련리(국공유지포함)'!$E$7:$E$501) -> 0 | K9: =B9-E9-H9 -> 5 | L9: / | M9: =D9-G9-J9 -> 518
A10: 대지 | B10: =COUNTIF('백련리(국공유지포함)'!$C$7:$C$501,"대") -> 1 | C10: / | D10: =SUMIF('백련리(국공유지포함)'!$C$7:$C$501,"대",'백련리(국공유지포함)'!$E$7:$E$501) -> 18 | E10: =COUNTIF('백련리(국공유지포함)'!$L$7:$L$501,"대국") -> 1 | F10: / | G10: =SUMIF('백련리(국공유지포함)'!$L$7:$L$501,"대국",'백련리(국공유지포함)'!$E$7:$E$501) -> 18 | H10: =COUNTIF('백련리(국공유지포함)'!$L$7:$L$501,"대공") -> 0 | I10: / | J10: =SUMIF('백련리(국공유지포함)'!$L$7:$L$501,"대공",'백련리(국공유지포함)'!$E$7:$E$501) -> 0 | K10: =B10-E10-H10 -> 0 | L10: / | M10: =D10-G10-J10 -> 0
A11: 도로 | B11: =COUNTIF('백련리(국공유지포함)'!$C$7:$C$501,"도") -> 61 | C11: / | D11: =SUMIF('백련리(국공유지포함)'!$C$7:$C$501,"도",'백련리(국공유지포함)'!$E$7:$E$501) -> 21430 | E11: =COUNTIF('백련리(국공유지포함)'!$L$7:$L$501,"도국") -> 46 | F11: / | G11: =SUMIF('백련리(국공유지포함)'!$L$7:$L$501,"도국",'백련리(국공유지포함)'!$E$7:$E$501) -> 18638 | H11: =COUNTIF('백련리(국공유지포함)'!$L$7:$L$501,"도공") -> 12 | I11: / | J11: =SUMIF('백련리(국공유지포함)'!$L$7:$L$501,"도공",'백련리(국공유지포함)'!$E$7:$E$501) -> 2572 | K11: =B11-E11-H11 -> 3 | L11: / | M11: =D11-G11-J11 -> 220
A12: 구거 | B12: =COUNTIF('백련리(국공유지포함)'!$C$7:$C$501,"구") -> 0 | C12: / | D12: =SUMIF('백련리(국공유지포함)'!$C$7:$C$501,"구",'백련리(국공유지포함)'!$E$7:$E$501) -> 0 | E12: =COUNTIF('백련리(국공유지포함)'!$L$7:$L$501,"구국") -> 0 | F12: / | G12: =SUMIF('백련리(국공유지포함)'!$L$7:$L$501,"구국",'백련리(국공유지포함)'!$E$7:$E$501) -> 0 | H12: =COUNTIF('백련리(국공유지포함)'!$L$7:$L$501,"구공") -> 0 | I12: / | J12: =SUMIF('백련리(국공유지포함)'!$L$7:$L$501,"구공",'백련리(국공유지포함)'!$E$7:$E$501) -> 0 | K12: =B12-E12-H12 -> 0 | L12: / | M12: =D12-G12-J12 -> 0
A13: 하천 | B13: =COUNTIF('백련리(국공유지포함)'!$C$7:$C$501,"천") -> 0 | C13: / | D13: =SUMIF('백련리(국공유지포함)'!$C$7:$C$501,"천",'백련리(국공유지포함)'!$E$7:$E$501) -> 0 | E13: =COUNTIF('백련리(국공유지포함)'!$L$7:$L$501,"천국") -> 0 | F13: / | G13: =SUMIF('백련리(국공유지포함)'!$L$7:$L$501,"천국",'백련리(국공유지포함)'!$E$7:$E$501) -> 0 | H13: =COUNTIF('백련리(국공유지포함)'!$L$7:$L$501,"천공") -> 0 | I13: / | J13: =SUMIF('백련리(국공유지포함)'!$L$7:$L$501,"천공",'백련리(국공유지포함)'!$E$7:$E$501) -> 0 | K13: =B13-E13-H13 -> 0 | L13: / | M13: =D13-G13-J13 -> 0
A14: 유지 | B14: =COUNTIF('백련리(국공유지포함)'!$C$7:$C$501,"유") -> 0 | C14: / | D14: =SUMIF('백련리(국공유지포함)'!$C$7:$C$501,"유",'백련리(국공유지포함)'!$E$7:$E$501) -> 0 | E14: =COUNTIF('백련리(국공유지포함)'!$L$7:$L$501,"유국") -> 0 | F14: / | G14: =SUMIF('백련리(국공유지포함)'!$L$7:$L$501,"유국",'백련리(국공유지포함)'!$E$7:$E$501) -> 0 | H14: =COUNTIF('백련리(국공유지포함)'!$L$7:$L$501,"유공") -> 0 | I14: / | J14: =SUMIF('백련리(국공유지포함)'!$L$7:$L$501,"유공",'백련리(국공유지포함)'!$E$7:$E$501) -> 0 | K14: =B14-E14-H14 -> 0 | L14: / | M14: =D14-G14-J14 -> 0
A15: 제방 | B15: =COUNTIF('백련리(국공유지포함)'!$C$7:$C$501,"제") -> 0 | C15: / | D15: =SUMIF('백련리(국공유지포함)'!$C$7:$C$501,"제",'백련리(국공유지포함)'!$E$7:$E$501) -> 0 | E15: =COUNTIF('백련리(국공유지포함)'!$L$7:$L$501,"제국") -> 0 | F15: / | G15: =SUMIF('백련리(국공유지포함)'!$L$7:$L$501,"제국",'백련리(국공유지포함)'!$E$7:$E$501) -> 0 | H15: =COUNTIF('백련리(국공유지포함)'!$L$7:$L$501,"제공") -> 0 | I15: / | J15: =SUMIF('백련리(국공유지포함)'!$L$7:$L$501,"제공",'백련리(국공유지포함)'!$E$7:$E$501) -> 0 | K15: =B15-E15-H15 -> 0 | L15: / | M15: =D15-G15-J15 -> 0
A16: 과수원 | B16: =COUNTIF('백련리(국공유지포함)'!$C$7:$C$501,"과") -> 0 | C16: / | D16: =SUMIF('백련리(국공유지포함)'!$C$7:$C$501,"과",'백련리(국공유지포함)'!$E$7:$E$501) -> 0 | E16: =COUNTIF('백련리(국공유지포함)'!$L$7:$L$501,"과국") -> 0 | F16: / | G16: =SUMIF('백련리(국공유지포함)'!$L$7:$L$501,"과국",'백련리(국공유지포함)'!$E$7:$E$501) -> 0 | H16: =COUNTIF('백련리(국공유지포함)'!$L$7:$L$501,"과공") -> 0 | I16: / | J16: =SUMIF('백련리(국공유지포함)'!$L$7:$L$501,"과공",'백련리(국공유지포함)'!$E$7:$E$501) -> 0 | K16: =B16-E16-H16 -> 0 | L16: / | M16: =D16-G16-J16 -> 0
A17: 공장 | B17: =COUNTIF('백련리(국공유지포함)'!$C$7:$C$501,"장") -> 0 | C17: / | D17: =SUMIF('백련리(국공유지포함)'!$C$7:$C$501,"장",'백련리(국공유지포함)'!$E$7:$E$501) -> 0 | E17: =COUNTIF('백련리(국공유지포함)'!$L$7:$L$501,"장국") -> 0 | F17: / | G17: =SUMIF('백련리(국공유지포함)'!$L$7:$L$501,"장국",'백련리(국공유지포함)'!$E$7:$E$501) -> 0 | H17: =COUNTIF('백련리(국공유지포함)'!$L$7:$L$501,"장공") -> 0 | I17: / | J17: =SUMIF('백련리(국공유지포함)'!$L$7:$L$501,"장공",'백련리(국공유지포함)'!$E$7:$E$501) -> 0 | K17: =B17-E17-H17 -> 0 | L17: / | M17: =D17-G17-J17 -> 0
A18: 목장 | B18: =COUNTIF('백련리(국공유지포함)'!$C$7:$C$501,"목") -> 0 | C18: / | D18: =SUMIF('백련리(국공유지포함)'!$C$7:$C$501,"목",'백련리(국공유지포함)'!$E$7:$E$501) -> 0 | E18: =COUNTIF('백련리(국공유지포함)'!$L$7:$L$501,"목국") -> 0 | F18: / | G18: =SUMIF('백련리(국공유지포함)'!$L$7:$L$501,"목국",'백련리(국공유지포함)'!$E$7:$E$501) -> 0 | H18: =COUNTIF('백련리(국공유지포함)'!$L$7:$L$501,"목공") -> 0 | I18: / | J18: =SUMIF('백련리(국공유지포함)'!$L$7:$L$501,"목공",'백련리(국공유지포함)'!$E$7:$E$501) -> 0 | K18: =B18-E18-H18 -> 0 | L18: / | M18: =D18-G18-J18 -> 0
A19: 학교용지 | B19: =COUNTIF('백련리(국공유지포함)'!$C$7:$C$501,"학") -> 0 | C19: / | D19: =SUMIF('백련리(국공유지포함)'!$C$7:$C$501,"학",'백련리(국공유지포함)'!$E$7:$E$501) -> 0 | E19: =COUNTIF('백련리(국공유지포함)'!$L$7:$L$501,"학국") -> 0 | F19: / | G19: =SUMIF('백련리(국공유지포함)'!$L$7:$L$501,"학국",'백련리(국공유지포함)'!$E$7:$E$501) -> 0 | H19: =COUNTIF('백련리(국공유지포함)'!$L$7:$L$501,"학공") -> 0 | I19: / | J19: =SUMIF('백련리(국공유지포함)'!$L$7:$L$501,"학공",'백련리(국공유지포함)'!$E$7:$E$501) -> 0 | K19: =B19-E19-H19 -> 0 | L19: / | M19: =D19-G19-J19 -> 0
A20: 철도 | B20: =COUNTIF('백련리(국공유지포함)'!$C$7:$C$501,"철") -> 0 | C20: / | D20: =SUMIF('백련리(국공유지포함)'!$C$7:$C$501,"철",'백련리(국공유지포함)'!$E$7:$E$501) -> 0 | E20: =COUNTIF('백련리(국공유지포함)'!$L$7:$L$501,"철국") -> 0 | F20: / | G20: =SUMIF('백련리(국공유지포함)'!$L$7:$L$501,"철국",'백련리(국공유지포함)'!$E$7:$E$501) -> 0 | H20: =COUNTIF('백련리(국공유지포함)'!$L$7:$L$501,"철공") -> 0 | I20: / | J20: =SUMIF('백련리(국공유지포함)'!$L$7:$L$501,"철공",'백련리(국공유지포함)'!$E$7:$E$501) -> 0 | K20: =B20-E20-H20 -> 0 | L20: / | M20: =D20-G20-J20 -> 0
A21: 묘지 | B21: =COUNTIF('백련리(국공유지포함)'!$C$7:$C$501,"묘") -> 2 | C21: / | D21: =SUMIF('백련리(국공유지포함)'!$C$7:$C$501,"묘",'백련리(국공유지포함)'!$E$7:$E$501) -> 82 | E21: =COUNTIF('백련리(국공유지포함)'!$L$7:$L$501,"묘국") -> 1 | F21: / | G21: =SUMIF('백련리(국공유지포함)'!$L$7:$L$501,"묘국",'백련리(국공유지포함)'!$E$7:$E$501) -> 21 | H21: =COUNTIF('백련리(국공유지포함)'!$L$7:$L$501,"묘공") -> 0 | I21: / | J21: =SUMIF('백련리(국공유지포함)'!$L$7:$L$501,"묘공",'백련리(국공유지포함)'!$E$7:$E$501) -> 0 | K21: =B21-E21-H21 -> 1 | L21: / | M21: =D21-G21-J21 -> 61
A22: 주차장 | B22: =COUNTIF('백련리(국공유지포함)'!$C$7:$C$501,"차") -> 0 | C22: / | D22: =SUMIF('백련리(국공유지포함)'!$C$7:$C$501,"차",'백련리(국공유지포함)'!$E$7:$E$501) -> 0 | E22: =COUNTIF('백련리(국공유지포함)'!$L$7:$L$501,"차국") -> 0 | F22: / | G22: =SUMIF('백련리(국공유지포함)'!$L$7:$L$501,"차국",'백련리(국공유지포함)'!$E$7:$E$501) -> 0 | H22: =COUNTIF('백련리(국공유지포함)'!$L$7:$L$501,"차공") -> 0 | I22: / | J22: =SUMIF('백련리(국공유지포함)'!$L$7:$L$501,"차공",'백련리(국공유지포함)'!$E$7:$E$501) -> 0 | K22: =B22-E22-H22 -> 0 | L22: / | M22: =D22-G22-J22 -> 0
A23: 잡종지 | B23: =COUNTIF('백련리(국공유지포함)'!$C$7:$C$501,"잡") -> 0 | C23: / | D23: =SUMIF('백련리(국공유지포함)'!$C$7:$C$501,"잡",'백련리(국공유지포함)'!$E$7:$E$501) -> 0 | E23: =COUNTIF('백련리(국공유지포함)'!$L$7:$L$501,"잡국") -> 0 | F23: / | G23: =SUMIF('백련리(국공유지포함)'!$L$7:$L$501,"잡국",'백련리(국공유지포함)'!$E$7:$E$501) -> 0 | H23: =COUNTIF('백련리(국공유지포함)'!$L$7:$L$501,"잡공") -> 0 | I23: / | J23: =SUMIF('백련리(국공유지포함)'!$L$7:$L$501,"잡공",'백련리(국공유지포함)'!$E$7:$E$501) -> 0 | K23: =B23-E23-H23 -> 0 | L23: / | M23: =D23-G23-J23 -> 0
A24: 종교 | B24: =COUNTIF('백련리(국공유지포함)'!$C$7:$C$501,"종") -> 0 | C24: / | D24: =SUMIF('백련리(국공유지포함)'!$C$7:$C$501,"종",'백련리(국공유지포함)'!$E$7:$E$501) -> 0 | E24: =COUNTIF('백련리(국공유지포함)'!$L$7:$L$501,"종국") -> 0 | F24: / | G24: =SUMIF('백련리(국공유지포함)'!$L$7:$L$501,"종국",'백련리(국공유지포함)'!$E$7:$E$501) -> 0 | H24: =COUNTIF('백련리(국공유지포함)'!$L$7:$L$501,"종공") -> 0 | I24: / | J24: =SUMIF('백련리(국공유지포함)'!$L$7:$L$501,"종공",'백련리(국공유지포함)'!$E$7:$E$501) -> 0 | K24: =B24-E24-H24 -> 0 | L24: / | M24: =D24-G24-J24 -> 0
A25: 주유소 | B25: =COUNTIF('백련리(국공유지포함)'!$C$7:$C$501,"주") -> 0 | C25: / | D25: =SUMIF('백련리(국공유지포함)'!$C$7:$C$501,"주",'백련리(국공유지포함)'!$E$7:$E$501) -> 0 | E25: =COUNTIF('백련리(국공유지포함)'!$L$7:$L$501,"주국") -> 0 | F25: / | G25: =SUMIF('백련리(국공유지포함)'!$L$7:$L$501,"주국",'백련리(국공유지포함)'!$E$7:$E$501) -> 0 | H25: =COUNTIF('백련리(국공유지포함)'!$L$7:$L$501,"주공") -> 0 | I25: / | J25: =SUMIF('백련리(국공유지포함)'!$L$7:$L$501,"주공",'백련리(국공유지포함)'!$E$7:$E$501) -> 0 | K25: =B25-E25-H25 -> 0 | L25: / | M25: =D25-G25-J25 -> 0
A26: 공원 | B26: =COUNTIF('백련리(국공유지포함)'!$C$7:$C$501,"공") -> 0 | C26: / | D26: =SUMIF('백련리(국공유지포함)'!$C$7:$C$501,"공",'백련리(국공유지포함)'!$E$7:$E$501) -> 0 | E26: =COUNTIF('백련리(국공유지포함)'!$L$7:$L$501,"공국") -> 0 | F26: / | G26: =SUMIF('백련리(국공유지포함)'!$L$7:$L$501,"공국",'백련리(국공유지포함)'!$E$7:$E$501) -> 0 | H26: =COUNTIF('백련리(국공유지포함)'!$L$7:$L$501,"공공") -> 0 | I26: / | J26: =SUMIF('백련리(국공유지포함)'!$L$7:$L$501,"공공",'백련리(국공유지포함)'!$E$7:$E$501) -> 0 | K26: =B26-E26-H26 -> 0 | L26: / | M26: =D26-G26-J26 -> 0
A27: 체육 | B27: =COUNTIF('백련리(국공유지포함)'!$C$7:$C$501,"체") -> 0 | C27: / | D27: =SUMIF('백련리(국공유지포함)'!$C$7:$C$501,"체",'백련리(국공유지포함)'!$E$7:$E$501) -> 0 | E27: =COUNTIF('백련리(국공유지포함)'!$L$7:$L$501,"체국") -> 0 | F27: / | G27: =SUMIF('백련리(국공유지포함)'!$L$7:$L$501,"체국",'백련리(국공유지포함)'!$E$7:$E$501) -> 0 | H27: =COUNTIF('백련리(국공유지포함)'!$L$7:$L$501,"체공") -> 0 | I27: / | J27: =SUMIF('백련리(국공유지포함)'!$L$7:$L$501,"체공",'백련리(국공유지포함)'!$E$7:$E$501) -> 0 | K27: =B27-E27-H27 -> 0 | L27: / | M27: =D27-G27-J27 -> 0
A28: 염전 | B28: =COUNTIF('백련리(국공유지포함)'!$C$7:$C$501,"염") -> 0 | C28: / | D28: =SUMIF('백련리(국공유지포함)'!$C$7:$C$501,"염",'백련리(국공유지포함)'!$E$7:$E$501) -> 0 | E28: =COUNTIF('백련리(국공유지포함)'!$L$7:$L$501,"염국") -> 0 | F28: / | G28: =SUMIF('백련리(국공유지포함)'!$L$7:$L$501,"염국",'백련리(국공유지포함)'!$E$7:$E$501) -> 0 | H28: =COUNTIF('백련리(국공유지포함)'!$L$7:$L$501,"염공") -> 0 | I28: / | J28: =SUMIF('백련리(국공유지포함)'!$L$7:$L$501,"염공",'백련리(국공유지포함)'!$E$7:$E$501) -> 0 | K28: =B28-E28-H28 -> 0 | L28: / | M28: =D28-G28-J28 -> 0
A29: 수도용지 | B29: =COUNTIF('백련리(국공유지포함)'!$C$7:$C$501,"수") -> 0 | C29: / | D29: =SUMIF('백련리(국공유지포함)'!$C$7:$C$501,"수",'백련리(국공유지포함)'!$E$7:$E$501) -> 0 | E29: =COUNTIF('백련리(국공유지포함)'!$L$7:$L$501,"수국") -> 0 | F29: / | G29: =SUMIF('백련리(국공유지포함)'!$L$7:$L$501,"수국",'백련리(국공유지포함)'!$E$7:$E$501) -> 0 | H29: =COUNTIF('백련리(국공유지포함)'!$L$7:$L$501,"수공") -> 0 | I29: / | J29: =SUMIF('백련리(국공유지포함)'!$L$7:$L$501,"수공",'백련리(국공유지포함)'!$E$7:$E$501) -> 0 | K29: =B29-E29-H29 -> 0 | L29: / | M29: =D29-G29-J29 -> 0
A30: 창 고 | B30: =COUNTIF('백련리(국공유지포함)'!$C$7:$C$501,"창") -> 0 | C30: / | D30: =SUMIF('백련리(국공유지포함)'!$C$7:$C$501,"창",'백련리(국공유지포함)'!$E$7:$E$501) -> 0 | E30: =COUNTIF('백련리(국공유지포함)'!$L$7:$L$501,"창국") -> 0 | F30: / | G30: =SUMIF('백련리(국공유지포함)'!$L$7:$L$501,"창국",'백련리(국공유지포함)'!$E$7:$E$501) -> 0 | H30: =COUNTIF('백련리(국공유지포함)'!$L$7:$L$501,"창공") -> 0 | I30: / | J30: =SUMIF('백련리(국공유지포함)'!$L$7:$L$501,"창공",'백련리(국공유지포함)'!$E$7:$E$501) -> 0 | K30: =B30-E30-H30 -> 0 | L30: / | M30: =D30-G30-J30 -> 0
A31: 공유수면 | B31: =COUNTIF('백련리(국공유지포함)'!$C$7:$C$501,"해") -> 1 | C31: / | D31: =SUMIF('백련리(국공유지포함)'!$C$7:$C$501,"해",'백련리(국공유지포함)'!$E$7:$E$501) -> 660039 | E31: =COUNTIF('백련리(국공유지포함)'!$L$7:$L$501,"해국") -> 1 | F31: / | G31: =SUMIF('백련리(국공유지포함)'!$L$7:$L$501,"해국",'백련리(국공유지포함)'!$E$7:$E$501) -> 660039 | H31: =COUNTIF('백련리(국공유지포함)'!$L$7:$L$501,"해공") -> 0 | I31: / | J31: =SUMIF('백련리(국공유지포함)'!$L$7:$L$501,"해공",'백련리(국공유지포함)'!$E$7:$E$501) -> 0 | K31: =B31-E31-H31 -> 0 | L31: / | M31: =D31-G31-J31 -> 0

Sheet 백련리(국공유지포함)
A1: 용 지 조 서
A2: ○ 공사명 : 새만금 지역간 연결도로 건설공사(1공구) | K2: 전북특별자치도 부안군 하서면 백련리
A4: 일련 | B4: 지번 | C4: 지목 | D4: 지 적 | E4: 편입면적 | F4: 소 유 자 | H4: 관 계 인 | K4: 비고
A5: 번호 | D5: ( ㎡ ) | E5: ( ㎡ ) | F5: 성 명 | G5: 주 소 | H5: 성 명 | I5: 주 소 | J5: 권리관계 | L5: 집계맞춤 | M5: 완편입확인
B6: 합계 | D6: =SUBTOTAL(3,$B$7:$B$501) -> 95 | E6: =SUBTOTAL(9,$E$7:$E$501) -> 697008
A7: 1 | B7: 1100-1 | C7: 도 | D7: 3630 | E7: 583 | F7: 국 | G7: 국토교통부 | H7: 0 | I7: 0 | J7: 0 | L7: =CONCATENATE(C7,F7) -> 도국 | M7: =D7-E7 -> 3047
A8: =A7+1 -> 2 | B8: 1018-3 | C8: 도 | D8: 548 | E8: 548 | F8: 국 | G8: 국토교통부 | H8: 0 | I8: 0 | J8: 0 | L8: =CONCATENATE(C8,F8) -> 도국 | M8: =D8-E8 -> 0
A9: =A8+1 -> 3 | B9: 1016-1 | C9: 도 | D9: 554 | E9: 554 | F9: 국 | G9: 국토교통부 | H9: 0 | I9: 0 | J9: 0 | L9: =CONCATENATE(C9,F9) -> 도국 | M9: =D9-E9 -> 0
A10: =A9+1 -> 4 | B10: 1017-1 | C10: 도 | D10: 571 | E10: 571 | F10: 국 | G10: 국토교통부 | H10: 0 | I10: 0 | J10: 0 | L10: =CONCATENATE(C10,F10) -> 도국 | M10: =D10-E10 -> 0
A11: =A10+1 -> 5 | B11: 1016-2 | C11: 도 | D11: 447 | E11: 91 | F11: 국 | G11: 기획재정부 | H11: 0 | I11: 0 | J11: 0 | L11: =CONCATENATE(C11,F11) -> 도국 | M11: =D11-E11 -> 356
A12: =A11+1 -> 6 | B12: 1016 | C12: 임 | D12: 298 | E12: 59 | F12: 국 | G12: 기획재정부 | H12: 0 | I12: 0 | J12: 0 | L12: =CONCATENATE(C12,F12) -> 임국 | M12: =D12-E12 -> 239
A13: =A12+1 -> 7 | B13: 1017 | C13: 도 | D13: 100 | E13: 100 | F13: 공 | G13: 전라북도 | H13: 0 | I13: 0 | J13: 0 | L13: =CONCATENATE(C13,F13) -> 도공 | M13: =D13-E13 -> 0
A14: =A13+1 -> 8 | B14: 1018-5 | C14: 도 | D14: 1520 | E14: 1520 | F14: 국 | G14: 국토교통부 | H14: 0 | I14: 0 | J14: 0 | L14: =CONCATENATE(C14,F14) -> 도국 | M14: =D14-E14 -> 0
A15: =A14+1 -> 9 | B15: 1012-1 | C15: 도 | D15: 35 | E15: 35 | F15: 공 | G15: 전라북도 | H15: 0 | I15: 0 | J15: 0 | L15: =CONCATENATE(C15,F15) -> 도공 | M15: =D15-E15 -> 0
A16: =A15+1 -> 10 | B16: 1018-4 | C16: 임 | D16: 166 | E16: 166 | F16: 국 | G16: 국토교통부 | H16: 0 | I16: 0 | J16: 0 | L16: =CONCATENATE(C16,F16) -> 임국 | M16: =D16-E16 -> 0
A17: =A16+1 -> 11 | B17: 1018-1 | C17: 도 | D17: 390 | E17: 386 | F17: 국 | G17: 국토교통부 | H17: 0 | I17: 0 | J17: 0 | L17: =CONCATENATE(C17,F17) -> 도국 | M17: =D17-E17 -> 4
A18: =A17+1 -> 12 | B18: 1014-12 | C18: 도 | D18: 24 | E18: 24 | F18: 국 | G18: 국토교통부 | H18: 0 | I18: 0 | J18: 0 | L18: =CONCATENATE(C18,F18) -> 도국 | M18: =D18-E18 -> 0
A19: =A18+1 -> 13 | B19: 1014-2 | C19: 전 | D19: 79 | E19: 79 | F19: 김형* | G19: 정읍시 상동 146-1 3차현대아파트 ***-*** | H19: 0 | I19: 0 | J19: 0 | K19: 사유지 | L19: =CONCATENATE(C19,F19) -> 전김형* | M19: =D19-E19 -> 0 | P19: 사
A20: =A19+1 -> 14 | B20: 1014-6 | C20: 도 | D20: 17 | E20: 17 | F20: 김영* | G20: 산내면 중계리 | H20: 0 | I20: 0 | J20: 0 | K20: 사유지 | L20: =CONCATENATE(C20,F20) -> 도김영* | M20: =D20-E20 -> 0 | P20: 사
A21: =A20+1 -> 15 | B21: 1015-1 | C21: 묘 | D21: 61 | E21: 61 | F21: 윤락* | G21: 김제군 죽산면 번지리 | H21: 0 | I21: 0 | J21: 0 | K21: 사유지 | L21: =CONCATENATE(C21,F21) -> 묘윤락* | M21: =D21-E21 -> 0 | P21: 사
A22: =A21+1 -> 16 | B22: 1014-7 | C22: 전 | D22: 27 | E22: 27 | F22: 김형* | G22: 정읍시 상동 146-1 3차현대아파트 ***-*** | H22: 0 | I22: 0 | J22: 0 | K22: 사유지 | L22: =CONCATENATE(C22,F22) -> 전김형* | M22: =D22-E22 -> 0 | P22: 사
A23: =A22+1 -> 17 | B23: 1014-13 | C23: 도 | D23: 32 | E23: 32 | F23: 국 | G23: 국토교통부 | H23: 0 | I23: 0 | J23: 0 | L23: =CONCATENATE(C23,F23) -> 도국 | M23: =D23-E23 -> 0
A24: =A23+1 -> 18 | B24: 1014-1 | C24: 도 | D24: 186 | E24: 186 | F24: 김영* | G24: 산내면 중계리 | H24: 0 | I24: 0 | J24: 0 | K24: 사유지 | L24: =CONCATENATE(C24,F24) -> 도김영* | M24: =D24-E24 -> 0 | P24: 사
A25: =A24+1 -> 19 | B25: 1015 | C25: 도 | D25: 1351 | E25: 500 | F25: 국 | G25: 기획재정부 | H25: 0 | I25: 0 | J25: 0 | L25: =CONCATENATE(C25,F25) -> 도국 | M25: =D25-E25 -> 851
A26: =A25+1 -> 20 | B26: 1014-11 | C26: 도 | D26: 53 | E26: 53 | F26: 국 | G26: 국토교통부 | H26: 0 | I26: 0 | J26: 0 | L26: =CONCATENATE(C26,F26) -> 도국 | M26: =D26-E26 -> 0
A27: =A26+1 -> 21 | B27: 1014-3 | C27: 도 | D27: 101 | E27: 101 | F27: 국 | G27: 국토교통부 | H27: 0 | I27: 0 | J27: 0 | L27: =CONCATENATE(C27,F27) -> 도국 | M27: =D27-E27 -> 0
A28: =A27+1 -> 22 | B28: 1014-9 | C28: 도 | D28: 71 | E28: 71 | F28: 국 | G28: 기획재정부 | H28: 0 | I28: 0 | J28: 0 | L28: =CONCATENATE(C28,F28) -> 도국 | M28: =D28-E28 -> 0
A29: =A28+1 -> 23 | B29: 1015-3 | C29: 묘 | D29: 49 | E29: 21 | F29: 국 | G29: 기획재정부 | H29: 0 | I29: 0 | J29: 0 | L29: =CONCATENATE(C29,F29) -> 묘국 | M29: =D29-E29 -> 28
A30: =A29+1 -> 24 | B30: 1014-14 | C30: 도 | D30: 92 | E30: 92 | F30: 국 | G30: 기획재정부 | H30: 0 | I30: 0 | J30: 0 | L30: =CONCATENATE(C30,F30) -> 도국 | M30: =D30-E30 -> 0
A31: =A30+1 -> 25 | B31: 1006-1 | C31: 임 | D31: 345 | E31: 192 | F31: 이준* | G31: 광주시 광산구 월곡동 ***-* | K31: 사유지 | L31: =CONCATENATE(C31,F31) -> 임이준* | M31: =D31-E31 -> 153 | P31: 사
A32: =A31+1 -> 26 | B32: 1006-2 | C32: 도 | D32: 42 | E32: 17 | F32: 이준* | G32: 광주시 광산구 월곡동 ***-* | K32: 사유지 | L32: =CONCATENATE(C32,F32) -> 도이준* | M32: =D32-E32 -> 25 | P32: 사
A33: =A32+1 -> 27 | B33: 1006-5 | C33: 임 | D33: 1063 | E33: 1063 | F33: 국 | G33: 국토교통부 | H33: 0 | I33: 0 | J33: 0 | L33: =CONCATENATE(C33,F33) -> 임국 | M33: =D33-E33 -> 0
A34: =A33+1 -> 28 | B34: 1097-3 | C34: 도 | D34: 290 | E34: 11 | F34: 국 | G34: 국토교통부 | L34: =CONCATENATE(C34,F34) -> 도국 | M34: =D34-E34 -> 279
A35: =A34+1 -> 29 | B35: 1006-6 | C35: 도 | D35: 8 | E35: 8 | F35: 국 | G35: 국토교통부 | L35: =CONCATENATE(C35,F35) -> 도국 | M35: =D35-E35 -> 0
A36: =A35+1 -> 30 | B36: 1005-2 | C36: 도 | D36: 179 | E36: 168 | F36: 국 | G36: 국토교통부 | H36: 0 | I36: 0 | J36: 0 | L36: =CONCATENATE(C36,F36) -> 도국 | M36: =D36-E36 -> 11
A37: =A36+1 -> 31 | B37: 산148-16 | C37: 임 | D37: 276 | E37: 25 | F37: 국 | G37: 국토교통부 | L37: =CONCATENATE(C37,F37) -> 임국 | M37: =D37-E37 -> 251
A38: =A37+1 -> 32 | B38: 산148-17 | C38: 도 | D38: 106 | E38: 1 | F38: 공 | G38: 전라북도 | L38: =CONCATENATE(C38,F38) -> 도공 | M38: =D38-E38 -> 105
A39: =A38+1 -> 33 | B39: 산172-3 | C39: 임 | D39: 2110 | E39: 717 | F39: 국 | G39: 국토교통부 | L39: =CONCATENATE(C39,F39) -> 임국 | M39: =D39-E39 -> 1393
A40: =A39+1 -> 34 | B40: 1100 | C40: 도 | D40: 1610 | E40: 1565 | F40: 국 | G40: 국토교통부 | H40: 0 | I40: 0 | J40: 0 | L40: =CONCATENATE(C40,F40) -> 도국 | M40: =D40-E40 -> 45
A41: =A40+1 -> 35 | B41: 1021 | C41: 도 | D41: 1002 | E41: 1002 | F41: 국 | G41: 국토교통부 | H41: 0 | I41: 0 | J41: 0 | L41: =CONCATENATE(C41,F41) -> 도국 | M41: =D41-E41 -> 0
...
