Workbook

Sheet 전체집계표
A1: 전체 편입용지 집계표
A3: 구 분 | B3: 총 계 | E3: 전북특별자치도 | H3: 비 고
E4: 부안군 하서면
E5: 주계리
B6: 필지 | C6: / | D6: 면적(㎡) | E6: 필지 | F6: / | G6: 면적(㎡)
A7: 계 | B7: =SUM(B8:B32) -> 95 | C7: / | D7: =SUM(D8:D32) -> 697008 | E7: =SUM(E8:E32) -> 95 | F7: / | G7: =SUM(G8:G32) -> 697008
A8: 전 | B8: =E8 -> 3 | C8: / | D8: =G8 -> 709 | E8: =집계표!$B7 -> 3 | F8: / | G8: =집계표!$D7 -> 709
A9: 답 | B9: =E9 -> 8 | C9: / | D9: =G9 -> 7338 | E9: =집계표!$B8 -> 8 | F9: / | G9: =집계표!$D8 -> 7338
A10: 임야 | B10: =E10 -> 19 | C10: / | D10: =G10 -> 7392 | E10: =집계표!$B9 -> 19 | F10: / | G10: =집계표!$D9 -> 7392
A11: 대지 | B11: =E11 -> 1 | C11: / | D11: =G11 -> 18 | E11: =집계표!$B10 -> 1 | F11: / | G11: =집계표!$D10 -> 18
A12: 도로 | B12: =E12 -> 61 | C12: / | D12: =G12 -> 21430 | E12: =집계표!$B11 -> 61 | F12: / | G12: =집계표!$D11 -> 21430
A13: 구거 | B13: =E13 -> 0 | C13: / | D13: =G13 -> 0 | E13: =집계표!$B12 -> 0 | F13: / | G13: =집계표!$D12 -> 0
A14: 하천 | B14: =E14 -> 0 | C14: / | D14: =G14 -> 0 | E14: =집계표!$B13 -> 0 | F14: / | G14: =집계표!$D13 -> 0
A15: 유지 | B15: =E15 -> 0 | C15: / | D15: =G15 -> 0 | E15: =집계표!$B14 -> 0 | F15: / | G15: =집계표!$D14 -> 0
A16: 제방 | B16: =E16 -> 0 | C16: / | D16: =G16 -> 0 | E16: =집계표!$B15 -> 0 | F16: / | G16: =집계표!$D15 -> 0
A17: 과수원 | B17: =E17 -> 0 | C17: / | D17: =G17 -> 0 | E17: =집계표!$B16 -> 0 | F17: / | G17: =집계표!$D16 -> 0
A18: 공장 | B18: =E18 -> 0 | C18: / | D18: =G18 -> 0 | E18: =집계표!$B17 -> 0 | F18: / | G18: =집계표!$D17 -> 0
A19: 목장 | B19: =E19 -> 0 | C19: / | D19: =G19 -> 0 | E19: =집계표!$B18 -> 0 | F19: / | G19: =집계표!$D18 -> 0
... A32: 무 지 번 | B32: =E32 -> 1 | C32: / | D32: =G32 -> 660039 | E32: =집계표!$B31 -> 1 | F32: / | G32: =집계표!$D31 -> 660039
A33: 국유지 편입용지 집계표
A35: 구 분 | B35: 총 계 | E35: 경상북도 | H35: 비 고
E36: 안동시 와룡면
E37: 주계리
B38: 필지 | C38: / | D38: 면적(㎡) | E38: 필지 | F38: / | G38: 면적(㎡)
A39: 계 | B39: =SUM(B40:B64) -> 65 | C39: / | D39: =SUM(D40:D64) -> 685831 | E39: =SUM(E40:E64) -> 65 | F39: / | G39: =SUM(G40:G64) -> 685831
A40: 전 | B40: =E40 -> 0 | C40: / | D40: =G40 -> 0 | E40: =집계표!$E7 -> 0 | F40: / | G40: =집계표!$G7 -> 0
A41: 답 | B41: =E41 -> 2 | C41: / | D41: =G41 -> 241 | E41: =집계표!$E8 -> 2 | F41: / | G41: =집계표!$G8 -> 241
A42: 임야 | B42: =E42 -> 14 | C42: / | D42: =G42 -> 6874 | E42: =집계표!$E9 -> 14 | F42: / | G42: =집계표!$G9 -> 6874
A43: 대지 | B43: =E43 -> 1 | C43: / | D43: =G43 -> 18 | E43: =집계표!$E10 -> 1 | F43: / | G43: =집계표!$G10 -> 18
A44: 도로 | B44: =E44 -> 46 | C44: / | D44: =G44 -> 18638 | E44: =집계표!$E11 -> 46 | F44: / | G44: =집계표!$G11 -> 18638
A45: 구거 | B45: =E45 -> 0 | C45: / | D45: =G45 -> 0 | E45: =집계표!$E12 -> 0 | F45: / | G45: =집계표!$G12 -> 0
A46: 하천 | B46: =E46 -> 0 | C46: / | D46: =G46 -> 0 | E46: =집계표!$E13 -> 0 | F46: / | G46: =집계표!$G13 -> 0
A47: 유지 | B47: =E47 -> 0 | C47: / | D47: =G47 -> 0 | E47: =집계표!$E14 -> 0 | F47: / | G47: =집계표!$G14 -> 0
A48: 제방 | B48: =E48 -> 0 | C48: / | D48: =G48 -> 0 | E48: =집계표!$E15 -> 0 | F48: / | G48: =집계표!$G15 -> 0
A49: 과수원 | B49: =E49 -> 0 | C49: / | D49: =G49 -> 0 | E49: =집계표!$E16 -> 0 | F49: / | G49: =집계표!$G16 -> 0
A50: 공장 | B50: =E50 -> 0 | C50: / | D50: =G50 -> 0 | E50: =집계표!$E17 -> 0 | F50: / | G50: =집계표!$G17 -> 0
A51: 목장 | B51: =E51 -> 0 | C51: / | D51: =G51 -> 0 | E51: =집계표!$E18 -> 0 | F51: / | G51: =집계표!$G18 -> 0
... A64: 무 지 번 | B64: =E64 -> 1 | C64: / | D64: =G64 -> 660039 | E64: =집계표!$E31 -> 1 | F64: / | G64: =집계표!$G31 -> 660039
A65: 공유지 편입용지 집계표
A67: 구 분 | B67: 총 계 | E67: 경상북도 | H67: 비 고
E68: 안동시 와룡면
E69: 주계리
B70: 필지 | C70: / | D70: 면적(㎡) | E70: 필지 | F70: / | G70: 면적(㎡)
A71: 계 | B71: =SUM(B72:B96) -> 12 | C71: / | D71: =SUM(D72:D96) -> 2572 | E71: =SUM(E72:E96) -> 12 | F71: / | G71: =SUM(G72:G96) -> 2572
A72: 전 | B72: =E72 -> 0 | C72: / | D72: =G72 -> 0 | E72: =집계표!$H7 -> 0 | F72: / | G72: =집계표!$J7 -> 0
A73: 답 | B73: =E73 -> 0 | C73: / | D73: =G73 -> 0 | E73: =집계표!$H8 -> 0 | F73: / | G73: =집계표!$J8 -> 0
A74: 임야 | B74: =E74 -> 0 | C74: / | D74: =G74 -> 0 | E74: =집계표!$H9 -> 0 | F74: / | G74: =집계표!$J9 -> 0
A75: 대지 | B75: =E75 -> 0 | C75: / | D75: =G75 -> 0 | E75: =집계표!$H10 -> 0 | F75: / | G75: =집계표!$J10 -> 0
A76: 도로 | B76: =E76 -> 12 | C76: / | D76: =G76 -> 2572 | E76: =집계표!$H11 -> 12 | F76: / | G76: =집계표!$J11 -> 2572
A77: 구거 | B77: =E77 -> 0 | C77: / | D77: =G77 -> 0 | E77: =집계표!$H12 -> 0 | F77: / | G77: =집계표!$J12 -> 0
A78: 하천 | B78: =E78 -> 0 | C78: / | D78: =G78 -> 0 | E78: =집계표!$H13 -> 0 | F78: / | G78: =집계표!$J13 -> 0
A79: 유지 | B79: =E79 -> 0 | C79: / | D79: =G79 -> 0 | E79: =집계표!$H14 -> 0 | F79: / | G79: =집계표!$J14 -> 0
A80: 제방 | B80: =E80 -> 0 | C80: / | D80: =G80 -> 0 | E80: =집계표!$H15 -> 0 | F80: / | G80: =집계표!$J15 -> 0
A81: 과수원 | B81: =E81 -> 0 | C81: / | D81: =G81 -> 0 | E81: =집계표!$H16 -> 0 | F81: / | G81: =집계표!$J16 -> 0
A82: 공장 | B82: =E82 -> 0 | C82: / | D82: =G82 -> 0 | E82: =집계표!$H17 -> 0 | F82: / | G82: =집계표!$J17 -> 0
A83: 목장 | B83: =E83 -> 0 | C83: / | D83: =G83 -> 0 | E83: =집계표!$H18 -> 0 | F83: / | G83: =집계표!$J18 -> 0
... A96: 무 지 번 | B96: =E96 -> 0 | C96: / | D96: =G96 -> 0 | E96: =집계표!$H31 -> 0 | F96: / | G96: =집계표!$J31 -> 0
A97: 사유지 편입용지 집계표
A99: 구 분 | B99: 총 계 | E99: 경상북도 | H99: 비 고
E100: 안동시 와룡면
E101: 주계리
E102: 신대리
B103: 필지 | C103: / | D103: 면적(㎡) | E103: 필지 | F103: / | G103: 면적(㎡)
A104: 계 | B104: =SUM(B105:B129) -> 18 | C104: / | D104: =SUM(D105:D129) -> 8605 | E104: =SUM(E105:E129) -> 18 | F104: / | G104: =SUM(G105:G129) -> 8605
A105: 전 | B105: =E105 -> 3 | C105: / | D105: =G105 -> 709 | E105: =집계표!$K7 -> 3 | F105: / | G105: =집계표!$M7 -> 709
A106: 답 | B106: =E106 -> 6 | C106: / | D106: =G106 -> 7097 | E106: =집계표!$K8 -> 6 | F106: / | G106: =집계표!$M8 -> 7097
A107: 임야 | B107: =E107 -> 5 | C107: / | D107: =G107 -> 518 | E107: =집계표!$K9 -> 5 | F107: / | G107: =집계표!$M9 -> 518
A108: 대지 | B108: =E108 -> 0 | C108: / | D108: =G108 -> 0 | E108: =집계표!$K10 -> 0 | F108: / | G108: =집계표!$M10 -> 0
A109: 도로 | B109: =E109 -> 3 | C109: / | D109: =G109 -> 220 | E109: =집계표!$K11 -> 3 | F109: / | G109: =집계표!$M11 -> 220
A110: 구거 | B110: =E110 -> 0 | C110: / | D110: =G110 -> 0 | E110: =집계표!$K12 -> 0 | F110: / | G110: =집계표!$M12 -> 0
A111: 하천 | B111: =E111 -> 0 | C111: / | D111: =G111 -> 0 | E111: =집계표!$K13 -> 0 | F111: / | G111: =집계표!$M13 -> 0
A112: 유지 | B112: =E112 -> 0 | C112: / | D112: =G112 -> 0 | E112: =집계표!$K14 -> 0 | F112: / | G112: =집계표!$M14 -> 0
A113: 제방 | B113: =E113 -> 0 | C113: / | D113: =G113 -> 0 | E113: =집계표!$K15 -> 0 | F113: / | G113: =집계표!$M15 -> 0
A114: 과수원 | B114: =E114 -> 0 | C114: / | D114: =G114 -> 0 | E114: =집계표!$K16 -> 0 | F114: / | G114: =집계표!$M16 -> 0
A115: 공장 | B115: =E115 -> 0 | C115: / | D115: =G115 -> 0 | E115: =집계표!$K17 -> 0 | F115: / | G115: =집계표!$M17 -> 0
A116: 목장 | B116: =E116 -> 0 | C116: / | D116: =G116 -> 0 | E116: =집계표!$K18 -> 0 | F116: / | G116: =집계표!$M18 -> 0
... A129: 무 지 번 | B129: =E129 -> 0 | C129: / | D129: =G129 -> 0 | E129: =집계표!$K31 -> 0 | F129: / | G129: =집계표!$M31 -> 0

Sheet 집계표
A1: 편 입 용 지 집 계 표
A2: ○ 공사명 : 새만금 지역간 연결도로 건설공사(1공구) | N2: ='백련리(국공유지포함)'!K2 -> 전북특별자치도 부안군 하서면 백련리
A4: 구 분 | B4: 계 | E4: 국 유 지 | H4: 공 유 지 | K4: 사 유 지 | N4: 비고
B5: 필지 | C5: / | D5: 면 적 (㎡) | E5: 필지 | F5: / | G5: 면 적 (㎡) | H5: 필지 | I5: / | J5: 면 적 (㎡) | K5: 필지 | L5: / | M5: 면 적 (㎡)
A6: 계 | B6: =SUM(B7:B31) -> 95 | C6: / | D6: =SUM(D7:D31) -> 697008 | E6: =SUM(E7:E31) -> 65 | F6: / | G6: =SUM(G7:G31) -> 685831 | H6: =SUM(H7:H31) -> 12 | I6: / | J6: =SUM(J7:J31) -> 2572 | K6: =SUM(K7:K31) -> 18 | L6: / | M6: =SUM(M7:M31) -> 8605
A7: 전 | B7: =COUNTIF('백련리(국공유지포함)'!$C$7:$C$501,"전") -> 3 | C7: / | D7: =SUMIF('백련리(국공유지포함)'!$C$7:$C$501,"전",'백련리(국공유지포함)'!$E$7:$E$501) -> 709 | E7: =COUNTIF('백련리(국공유지포함)'!$L$7:$L$501,"전국") -> 0 | F7: / | G7: =SUMIF('백련리(국공유지포함)'!$L$7:$L$501,"전국",'백련리(국공유지포함)'!$E$7:$E$501) -> 0 | H7: =COUNTIF('백련리(국공유지포함)'!$L$7:$L$501,"전공") -> 0 | I7: / | J7: =SUMIF('백련리(국공유지포함)'!$L$7:$L$501,"전공",'백련리(국공유지포함)'!$E$7:$E$501) -> 0 | K7: =B7-E7-H7 -> 3 | L7: / | M7: =D7-G7-J7 -> 709
A8: 답 | B8: =COUNTIF('백련리(국공유지포함)'!$C$7:$C$501,"답") -> 8 | C8: / | D8: =SUMIF('백련리(국공유지포함)'!$C$7:$C$501,"답",'백련리(국공유지포함)'!$E$7:$E$501) -> 7338 | E8: =COUNTIF('백련리(국공유지포함)'!$L$7:$L$501,"답국") -> 2 | F8: / | G8: =SUMIF('백련리(국공유지포함)'!$L$7:$L$501,"답국",'백련리(국공유지포함)'!$E$7:$E$501) -> 241 | H8: =COUNTIF('백련리(국공유지포함)'!$L$7:$L$501,"답공") -> 0 | I8: / | J8: =SUMIF('백련리(국공유지포함)'!$L$7:$L$501,"답공",'백련리(국공유지포함)'!$E$7:$E$501) -> 0 | K8: =B8-E8-H8 -> 6 | L8: / | M8: =D8-G8-J8 -> 7097
A9: 임야 | B9: =COUNTIF('백련리(국공유지포함)'!$C$7:$C$501,"임") -> 19 | C9: / | D9: =SUMIF('백련리(국공유지포함)'!$C$7:$C$501,"임",'백련리(국공유지포함)'!$E$7:$E$501) -> 7392 | E9: =COUNTIF('백련리(국공유지포함)'!$L$7:$L$501,"임국") -> 14 | F9: / | G9: =SUMIF('백련리(국공유지포함)'!$L$7:$L$501,"임국",'백련리(국공유지포함)'!$E$7:$E$501) -> 6874 | H9: =COUNTIF('백련리(국공유지포함)'!$L$7:$L$501,"임공") -> 0 | I9: / | J9: =SUMIF('백련리(국공유지포함)'!$L$7:$L$501,"임공",'백련리(국공유지포함)'!$E$7:$E$501) -> 0 | K9: =B9-E9-H9 -> 5 | L9: / | M9: =D9-G9-J9 -> 518
A10: 대지 | B10: =COUNTIF('백련리(국공유지포함)'!$C$7:$C$501,"대") -> 1 | C10: / | D10: =SUMIF('백련리(국공유지포함)'!$C$7:$C$501,"대",'백련리(국공유지포함)'!$E$7:$E$501) -> 18 | E10: =COUNTIF('백련리(국공유지포함)'!$L$7:$L$501,"대국") -> 1 | F10: / | G10: =SUMIF('백련리(국공유지포함)'!$L$7:$L$501,"대국",'백련리(국공유지포함)'!$E$7:$E$501) -> 18 | H10: =COUNTIF('백련리(국공유지포함)'!$L$7:$L$501,"대공") -> 0 | I10: / | J10: =SUMIF('백련리(국공유지포함)'!$L$7:$L$501,"대공",'백련리(국공유지포함)'!$E$7:$E$501) -> 0 | K10: =B10-E10-H10 -> 0 | L10: / | M10: =D10-G10-J10 -> 0
A11: 도로 | B11: =COUNTIF('백련리(국공유지포함)'!$C$7:$C$501,"도") -> 61 | C11: / | D11: =SUMIF('백련리(국공유지포함)'!$C$7:$C$501,"도",'백련리(국공유지포함)'!$E$7:$E$501) -> 21430 | E11: =COUNTIF('백련리(국공유지포함)'!$L$7:$L$501,"도국") -> 46 | F11: / | G11: =SUMIF('백련리(국공유지포함)'!$L$7:$L$501,"도국",'백련리(국공유지포함)'!$E$7:$E$501) -> 18638 | H11: =COUNTIF('백련리(국공유지포함)'!$L$7:$L$501,"도공") -> 12 | I11: / | J11: =SUMIF('백련리(국공유지포함)'!$L$7:$L$501,"도공",'백련리(국공유지포함)'!$E$7:$E$501) -> 2572 | K11: =B11-E11-H11 -> 3 | L11: / | M11: =D11-G11-J11 -> 220
A12: 구거 | B12: =COUNTIF('백련리(국공유지포함)'!$C$7:$C$501,"구") -> 0 | C12: / | D12: =SUMIF('백련리(국공유지포함)'!$C$7:$C$501,"구",'백련리(국공유지포함)'!$E$7:$E$501) -> 0 | E12: =COUNTIF('백련리(국공유지포함)'!$L$7:$L$501,"구국") -> 0 | F12: / | G12: =SUMIF('백련리(국공유지포함)'!$L$7:$L$501,"구국",'백련리(국공유지포함)'!$E$7:$E$501) -> 0 | H12: =COUNTIF('백련리(국공유지포함)'!$L$7:$L$501,"구공") -> 0 | I12: / | J12: =SUMIF('백련리(국공유지포함)'!$L$7:$L$501,"구공",'백련리(국공유지포함)'!$E$7:$E$501) -> 0 | K12: =B12-E12-H12 -> 0 | L12: / | M12: =D12-G12-J12 -> 0
A13: 하천 | B13: =COUNTIF('백련리(국공유지포함)'!$C$7:$C$501,"천") -> 0 | C13: / | D13: =SUMIF('백련리(국공유지포함)'!$C$7:$C$501,"천",'백련리(국공유지포함)'!$E$7:$E$501) -> 0 | E13: =COUNTIF('백련리(국공유지포함)'!$L$7:$L$501,"천국") -> 0 | F13: / | G13: =SUMIF('백련리(국공유지포함)'!$L$7:$L$501,"천국",'백련리(국공유지포함)'!$E$7:$E$501) -> 0 | H13: =COUNTIF('백련리(국공유지포함)'!$L$7:$L$501,"천공") -> 0 | I13: / | J13: =SUMIF('백련리(국공유지포함)'!$L$7:$L$501,"천공",'백련리(국공유지포함)'!$E$7:$E$501) -> 0 | K13: =B13-E13-H13 -> 0 | L13: / | M13: =D13-G13-J13 -> 0
A14: 유지 | B14: =COUNTIF('백련리(국공유지포함)'!$C$7:$C$501,"유") -> 0 | C14: / | D14: =SUMIF('백련리(국공유지포함)'!$C$7:$C$501,"유",'백련리(국공유지포함)'!$E$7:$E$501) -> 0 | E14: =COUNTIF('백련리(국공유지포함)'!$L$7:$L$501,"유국") -> 0 | F14: / | G14: =SUMIF('백련리(국공유지포함)'!$L$7:$L$501,"유국",'백련리(국공유지포함)'!$E$7:$E$501) -> 0 | H14: =COUNTIF('백련리(국공유지포함)'!$L$7:$L$501,"유공") -> 0 | I14: / | J14: =SUMIF('백련리(국공유지포함)'!$L$7:$L$501,"유공",'백련리(국공유지포함)'!$E$7:$E$501) -> 0 | K14: =B14-E14-H14 -> 0 | L14: / | M14: =D14-G14-J14 -> 0
A15: 제방 | B15: =COUNTIF('백련리(국공유지포함)'!$C$7:$C$501,"제") -> 0 | C15: / | D15: =SUMIF('백련리(국공유지포함)'!$C$7:$C$501,"제",'백련리(국공유지포함)'!$E$7:$E$501) -> 0 | E15: =COUNTIF('백련리(국공유지포함)'!$L$7:$L$501,"제국") -> 0 | F15: / | G15: =SUMIF('백련리(국공유지포함)'!$L$7:$L$501,"제국",'백련리(국공유지포함)'!$E$7:$E$501) -> 0 | H15: =COUNTIF('백련리(국공유지포함)'!$L$7:$L$501,"제공") -> 0 | I15: / | J15: =SUMIF('백련리(국공유지포함)'!$L$7:$L$501,"제공",'백련리(국공유지포함)'!$E$7:$E$501) -> 0 | K15: =B15-E15-H15 -> 0 | L15: / | M15: =D15-G15-J15 -> 0
A16: 과수원 | B16: =COUNTIF('백련리(국공유지포함)'!$C$7:$C$501,"과") -> 0 | C16: / | D16: =SUMIF('백련리(국공유지포함)'!$C$7:$C$501,"과",'백련리(국공유지포함)'!$E$7:$E$501) -> 0 | E16: =COUNTIF('백련리(국공유지포함)'!$L$7:$L$501,"과국") -> 0 | F16: / | G16: =SUMIF('백련리(국공유지포함)'!$L$7:$L$501,"과국",'백련리(국공유지포함)'!$E$7:$E$501) -> 0 | H16: =COUNTIF('백련리(국공유지포함)'!$L$7:$L$501,"과공") -> 0 | I16: / | J16: =SUMIF('백련리(국공유지포함)'!$L$7:$L$501,"과공",'백련리(국공유지포함)'!$E$7:$E$501) -> 0 | K16: =B16-E16-H16 -> 0 | L16: / | M16: =D16-G16-J16 -> 0
A17: 공장 | B17: =COUNTIF('백련리(국공유지포함)'!$C$7:$C$501,"장") -> 0 | C17: / | D17: =SUMIF('백련리(국공유지포함)'!$C$7:$C$501,"장",'백련리(국공유지포함)'!$E$7:$E$501) -> 0 | E17: =COUNTIF('백련리(국공유지포함)'!$L$7:$L$501,"장국") -> 0 | F17: / | G17: =SUMIF('백련리(국공유지포함)'!$L$7:$L$501,"장국",'백련리(국공유지포함)'!$E$7:$E$501) -> 0 | H17: =COUNTIF('백련리(국공유지포함)'!$L$7:$L$501,"장공") -> 0 | I17: / | J17: =SUMIF('백련리(국공유지포함)'!$L$7:$L$501,"장공",'백련리(국공유지포함)'!$E$7:$E$501) -> 0 | K17: =B17-E17-H17 -> 0 | L17: / | M17: =D17-G17-J17 -> 0
A18: 목장 | B18: =COUNTIF('백련리(국공유지포함)'!$C$7:$C$501,"목") -> 0 | C18: / | D18: =SUMIF('백련리(국공유지포함)'!$C$7:$C$501,"목",'백련리(국공유지포함)'!$E$7:$E$501) -> 0 | E18: =COUNTIF('백련리(국공유지포함)'!$L$7:$L$501,"목국") -> 0 | F18: / | G18: =SUMIF('백련리(국공유지포함)'!$L$7:$L$501,"목국",'백련리(국공유지포함)'!$E$7:$E$501) -> 0 | H18: =COUNTIF('백련리(국공유지포함)'!$L$7:$L$501,"목공") -> 0 | I18: / | J18: =SUMIF('백련리(국공유지포함)'!$L$7:$L$501,"목공",'백련리(국공유지포함)'!$E$7:$E$501) -> 0 | K18: =B18-E18-H18 -> 0 | L18: / | M18: =D18-G18-J18 -> 0
A19: 학교용지 | B19: =COUNTIF('백련리(국공유지포함)'!$C$7:$C$501,"학") -> 0 | C19: / | D19: =SUMIF('백련리(국공유지포함)'!$C$7:$C$501,"학",'백련리(국공유지포함)'!$E$7:$E$501) -> 0 | E19: =COUNTIF('백련리(국공유지포함)'!$L$7:$L$501,"학국") -> 0 | F19: / | G19: =SUMIF('백련리(국공유지포함)'!$L$7:$L$501,"학국",'백련리(국공유지포함)'!$E$7:$E$501) -> 0 | H19: =COUNTIF('백련리(국공유지포함)'!$L$7:$L$501,"학공") -> 0 | I19: / | J19: =SUMIF('백련리(국공유지포함)'!$L$7:$L$501,"학공",'백련리(국공유지포함)'!$E$7:$E$501) -> 0 | K19: =B19-E19-H19 -> 0 | L19: / | M19: =D19-G19-J19 -> 0
A20: 철도 | B20: =COUNTIF('백련리(국공유지포함)'!$C$7:$C$501,"철") -> 0 | C20: / | D20: =SUMIF('백련리(국공유지포함)'!$C$7:$C$501,"철",'백련리(국공유지포함)'!$E$7:$E$501) -> 0 | E20: =COUNTIF('백련리(국공유지포함)'!$L$7:$L$501,"철국") -> 0 | F20: / | G20: =SUMIF('백련리(국공유지포함)'!$L$7:$L$501,"철국",'백련리(국공유지포함)'!$E$7:$E$501) -> 0 | H20: =COUNTIF('백련리(국공유지포함)'!$L$7:$L$501,"철공") -> 0 | I20: / | J20: =SUMIF('백련리(국공유지포함)'!$L$7:$L$501,"철공",'백련리(국공유지포함)'!$E$7:$E$501) -> 0 | K20: =B20-E20-H20 -> 0 | L20: / | M20: =D20-G20-J20 -> 0
A21: 묘지 | B21: =COUNTIF('백련리(국공유지포함)'!$C$7:$C$501,"묘") -> 2 | C21: / | D21: =SUMIF('백련리(국공유지포함)'!$C$7:$C$501,"묘",'백련리(국공유지포함)'!$E$7:$E$501) -> 82 | E21: =COUNTIF('백련리(국공유지포함)'!$L$7:$L$501,"묘국") -> 1 | F21: / | G21: =SUMIF('백련리(국공유지포함)'!$L$7:$L$501,"묘국",'백련리(국공유지포함)'!$E$7:$E$501) -> 21 | H21: =COUNTIF('백련리(국공유지포함)'!$L$7:$L$501,"묘공") -> 0 | I21: / | J21: =SUMIF('백련리(국공유지포함)'!$L$7:$L$501,"묘공",'백련리(국공유지포함)'!$E$7:$E$501) -> 0 | K21: =B21-E21-H21 -> 1 | L21: / | M21: =D21-G21-J21 -> 61
A22: 주차장 | B22: =COUNTIF('백련리(국공유지포함)'!$C$7:$C$501,"차") -> 0 | C22: / | D22: =SUMIF('백련리(국공유지포함)'!$C$7:$C$501,"차",'백련리(국공유지포함)'!$E$7:$E$501) -> 0 | E22: =COUNTIF('백련리(국공유지포함)'!$L$7:$L$501,"차국") -> 0 | F22: / | G22: =SUMIF('백련리(국공유지포함)'!$L$7:$L$501,"차국",'백련리(국공유지포함)'!$E$7:$E$501) -> 0 | H22: =COUNTIF('백련리(국공유지포함)'!$L$7:$L$501,"차공") -> 0 | I22: / | J22: =SUMIF('백련리(국공유지포함)'!$L$7:$L$501,"차공",'백련리(국공유지포함)'!$E$7:$E$501) -> 0 | K22: =B22-E22-H22 -> 0 | L22: / | M22: =D22-G22-J22 -> 0
A23: 잡종지 | B23: =COUNTIF('백련리(국공유지포함)'!$C$7:$C$501,"잡") -> 0 | C23: / | D23: =SUMIF('백련리(국공유지포함)'!$C$7:$C$501,"잡",'백련리(국공유지포함)'!$E$7:$E$501) -> 0 | E23: =COUNTIF('백련리(국공유지포함)'!$L$7:$L$501,"잡국") -> 0 | F23: / | G23: =SUMIF('백련리(국공유지포함)'!$L$7:$L$501,"잡국",'백련리(국공유지포함)'!$E$7:$E$501) -> 0 | H23: =COUNTIF('백련리(국공유지포함)'!$L$7:$L$501,"잡공") -> 0 | I23: / | J23: =SUMIF('백련리(국공유지포함)'!$L$7:$L$501,"잡공",'백련리(국공유지포함)'!$E$7:$E$501) -> 0 | K23: =B23-E23-H23 -> 0 | L23: / | M23: =D23-G23-J23 -> 0
A24: 종교 | B24: =COUNTIF('백련리(국공유지포함)'!$C$7:$C$501,"종") -> 0 | C24: / | D24: =SUMIF('백련리(국공유지포함)'!$C$7:$C$501,"종",'백련리(국공유지포함)'!$E$7:$E$501) -> 0 | E24: =COUNTIF('백련리(국공유지포함)'!$L$7:$L$501,"종국") -> 0 | F24: / | G24: =SUMIF('백련리(국공유지포함)'!$L$7:$L$501,"종국",'백련리(국공유지포함)'!$E$7:$E$501) -> 0 | H24: =COUNTIF('백련리(국공유지포함)'!$L$7:$L$501,"종공") -> 0 | I24: / | J24: =SUMIF('백련리(국공유지포함)'!$L$7:$L$501,"종공",'백련리(국공유지포함)'!$E$7:$E$501) -> 0 | K24: =B24-E24-H24 -> 0 | L24: / | M24: =D24-G24-J24 -> 0
A25: 주유소 | B25: =COUNTIF('백련리(국공유지포함)'!$C$7:$C$501,"주") -> 0 | C25: / | D25: =SUMIF('백련리(국공유지포함)'!$C$7:$C$501,"주",'백련리(국공유지포함)'!$E$7:$E$501) -> 0 | E25: =COUNTIF('백련리(국공유지포함)'!$L$7:$L$501,"주국") -> 0 | F25: / | G25: =SUMIF('백련리(국공유지포함)'!$L$7:$L$501,"주국",'백련리(국공유지포함)'!$E$7:$E$501) -> 0 | H25: =COUNTIF('백련리(국공유지포함)'!$L$7:$L$501,"주공") -> 0 | I25: / | J25: =SUMIF('백련리(국공유지포함)'!$L$7:$L$501,"주공",'백련리(국공유지포함)'!$E$7:$E$501) -> 0 | K25: =B25-E25-H25 -> 0 | L25: / | M25: =D25-G25-J25 -> 0
A26: 공원 | B26: =COUNTIF('백련리(국공유지포함)'!$C$7:$C$501,"공") -> 0 | C26: / | D26: =SUMIF('백련리(국공유지포함)'!$C$7:$C$501,"공",'백련리(국공유지포함)'!$E$7:$E$501) -> 0 | E26: =COUNTIF('백련리(국공유지포함)'!$L$7:$L$501,"공국") -> 0 | F26: / | G26: =SUMIF('백련리(국공유지포함)'!$L$7:$L$501,"공국",'백련리(국공유지포함)'!$E$7:$E$501) -> 0 | H26: =COUNTIF('백련리(국공유지포함)'!$L$7:$L$501,"공공") -> 0 | I26: / | J26: =SUMIF('백련리(국공유지포함)'!$L$7:$L$501,"공공",'백련리(국공유지포함)'!$E$7:$E$501) -> 0 | K26: =B26-E26-H26 -> 0 | L26: / | M26: =D26-G26-J26 -> 0
A27: 체육 | B27: =COUNTIF('백련리(국공유지포함)'!$C$7:$C$501,"체") -> 0 | C27: / | D27: =SUMIF('백련리(국공유지포함)'!$C$7:$C$501,"체",'백련리(국공유지포함)'!$E$7:$E$501) -> 0 | E27: =COUNTIF('백련리(국공유지포함)'!$L$7:$L$501,"체국") -> 0 | F27: / | G27: =SUMIF('백련리(국공유지포함)'!$L$7:$L$501,"체국",'백련리(국공유지포함)'!$E$7:$E$501) -> 0 | H27: =COUNTIF('백련리(국공유지포함)'!$L$7:$L$501,"체공") -> 0 | I27: / | J27: =SUMIF('백련리(국공유지포함)'!$L$7:$L$501,"체공",'백련리(국공유지포함)'!$E$7:$E$501) -> 0 | K27: =B27-E27-H27 -> 0 | L27: / | M27: =D27-G27-J27 -> 0
A28: 염전 | B28: =COUNTIF('백련리(국공유지포함)'!$C$7:$C$501,"염") -> 0 | C28: / | D28: =SUMIF('백련리(국공유지포함)'!$C$7:$C$501,"염",'백련리(국공유지포함)'!$E$7:$E$501) -> 0 | E28: =COUNTIF('백련리(국공유지포함)'!$L$7:$L$501,"염국") -> 0 | F28: / | G28: =SUMIF('백련리(국공유지포함)'!$L$7:$L$501,"염국",'백련리(국공유지포함)'!$E$7:$E$501) -> 0 | H28: =COUNTIF('백련리(국공유지포함)'!$L$7:$L$501,"염공") -> 0 | I28: / | J28: =SUMIF('백련리(국공유지포함)'!$L$7:$L$501,"염공",'백련리(국공유지포함)'!$E$7:$E$501) -> 0 | K28: =B28-E28-H28 -> 0 | L28: / | M28: =D28-G28-J28 -> 0
A29: 수도용지 | B29: =COUNTIF('백련리(국공유지포함)'!$C$7:$C$501,"수") -> 0 | C29: / | D29: =SUMIF('백련리(국공유지포함)'!$C$7:$C$501,"수",'백련리(국공유지포함)'!$E$7:$E$501) -> 0 | E29: =COUNTIF('백련리(국공유지포함)'!$L$7:$L$501,"수국") -> 0 | F29: / | G29: =SUMIF('백련리(국공유지포함)'!$L$7:$L$501,"수국",'백련리(국공유지포함)'!$E$7:$E$501) -> 0 | H29: =COUNTIF('백련리(국공유지포함)'!$L$7:$L$501,"수공") -> 0 | I29: / | J29: =SUMIF('백련리(국공유지포함)'!$L$7:$L$501,"수공",'백련리(국공유지포함)'!$E$7:$E$501) -> 0 | K29: =B29-E29-H29 -> 0 | L29: / | M29: =D29-G29-J29 -> 0
A30: 창 고 | B30: =COUNTIF('백련리(국공유지포함)'!$C$7:$C$501,"창") -> 0 | C30: / | D30: =SUMIF('백련리(국공유지포함)'!$C$7:$C$501,"창",'백련리(국공유지포함)'!$E$7:$E$501) -> 0 | E30: =COUNTIF('백련리(국공유지포함)'!$L$7:$L$501,"창국") -> 0 | F30: / | G30: =SUMIF('백련리(국공유지포함)'!$L$7:$L$501,"창국",'백련리(국공유지포함)'!$E$7:$E$501) -> 0 | H30: =COUNTIF('백련리(국공유지포함)'!$L$7:$L$501,"창공") -> 0 | I30: / | J30: =SUMIF('백련리(국공유지포함)'!$L$7:$L$501,"창공",'백련리(국공유지포함)'!$E$7:$E$501) -> 0 | K30: =B30-E30-H30 -> 0 | L30: / | M30: =D30-G30-J30 -> 0
A31: 공유수면 | B31: =COUNTIF('백련리(국공유지포함)'!$C$7:$C$501,"해") -> 1 | C31: / | D31: =SUMIF('백련리(국공유지포함)'!$C$7:$C$501,"해",'백련리(국공유지포함)'!$E$7:$E$501) -> 660039 | E31: =COUNTIF('백련리(국공유지포함)'!$L$7:$L$501,"해국") -> 1 | F31: / | G31: =SUMIF('백련리(국공유지포함)'!$L$7:$L$501,"해국",'백련리(국공유지포함)'!$E$7:$E$501) -> 660039 | H31: =COUNTIF('백련리(국공유지포함)'!$L$7:$L$501,"해공") -> 0 | I31: / | J31: =SUMIF('백련리(국공유지포함)'!$L$7:$L$501,"해공",'백련리(국공유지포함)'!$E$7:$E$501) -> 0 | K31: =B31-E31-H31 -> 0 | L31: / | M31: =D31-G31-J31 -> 0

Sheet 백련리(국공유지포함)
A1: 용 지 조 서
A2: ○ 공사명 : 새만금 지역간 연결도로 건설공사(1공구) | K2: 전북특별자치도 부안군 하서면 백련리
A4: 일련 | B4: 지번 | C4: 지목 | D4: 지 적 | E4: 편입면적 | F4: 소 유 자 | H4: 관 계 인 | K4: 비고
A5: 번호 | D5: ( ㎡ ) | E5: ( ㎡ ) | F5: 성 명 | G5: 주 소 | H5: 성 명 | I5: 주 소 | J5: 권리관계 | L5: 집계맞춤 | M5: 완편입확인
B6: 합계 | D6: =SUBTOTAL(3,$B$7:$B$501) -> 95 | E6: =SUBTOTAL(9,$E$7:$E$501) -> 697008
A7: 1 | B7: 1100-1 | C7: 도 | D7: 3630 | E7: 583 | F7: 국 | G7: 국토교통부 | H7: 0 | I7: 0 | J7: 0 | L7: =CONCATENATE(C7,F7) -> 도국 | M7: =D7-E7 -> 3047
A8: =A7+1 -> 2 | B8: 1018-3 | C8: 도 | D8: 548 | E8: 548 | F8: 국 | G8: 국토교통부 | H8: 0 | I8: 0 | J8: 0 | L8: =CONCATENATE(C8,F8) -> 도국 | M8: =D8-E8 -> 0
A9: =A8+1 -> 3 | B9: 1016-1 | C9: 도 | D9: 554 | E9: 554 | F9: 국 | G9: 국토교통부 | H9: 0 | I9: 0 | J9: 0 | L9: =CONCATENATE(C9,F9) -> 도국 | M9: =D9-E9 -> 0
A10: =A9+1 -> 4 | B10: 1017-1 | C10: 도 | D10: 571 | E10: 571 | F10: 국 | G10: 국토교통부 | H10: 0 | I10: 0 | J10: 0 | L10: =CONCATENATE(C10,F10) -> 도국 | M10: =D10-E10 -> 0
A11: =A10+1 -> 5 | B11: 1016-2 | C11: 도 | D11: 447 | E11: 91 | F11: 국 | G11: 기획재정부 | H11: 0 | I11: 0 | J11: 0 | L11: =CONCATENATE(C11,F11) -> 도국 | M11: =D11-E11 -> 356
A12: =A11+1 -> 6 | B12: 1016 | C12: 임 | D12: 298 | E12: 59 | F12: 국 | G12: 기획재정부 | H12: 0 | I12: 0 | J12: 0 | L12: =CONCATENATE(C12,F12) -> 임국 | M12: =D12-E12 -> 239
A13: =A12+1 -> 7 | B13: 1017 | C13: 도 | D13: 100 | E13: 100 | F13: 공 | G13: 전라북도 | H13: 0 | I13: 0 | J13: 0 | L13: =CONCATENATE(C13,F13) -> 도공 | M13: =D13-E13 -> 0
A14: =A13+1 -> 8 | B14: 1018-5 | C14: 도 | D14: 1520 | E14: 1520 | F14: 국 | G14: 국토교통부 | H14: 0 | I14: 0 | J14: 0 | L14: =CONCATENATE(C14,F14) -> 도국 | M14: =D14-E14 -> 0
A15: =A14+1 -> 9 | B15: 1012-1 | C15: 도 | D15: 35 | E15: 35 | F15: 공 | G15: 전라북도 | H15: 0 | I15: 0 | J15: 0 | L15: =CONCATENATE(C15,F15) -> 도공 | M15: =D15-E15 -> 0
A16: =A15+1 -> 10 | B16: 1018-4 | C16: 임 | D16: 166 | E16: 166 | F16: 국 | G16: 국토교통부 | H16: 0 | I16: 0 | J16: 0 | L16: =CONCATENATE(C16,F16) -> 임국 | M16: =D16-E16 -> 0
A17: =A16+1 -> 11 | B17: 1018-1 | C17: 도 | D17: 390 | E17: 386 | F17: 국 | G17: 국토교통부 | H17: 0 | I17: 0 | J17: 0 | L17: =CONCATENATE(C17,F17) -> 도국 | M17: =D17-E17 -> 4
A18: =A17+1 -> 12 | B18: 1014-12 | C18: 도 | D18: 24 | E18: 24 | F18: 국 | G18: 국토교통부 | H18: 0 | I18: 0 | J18: 0 | L18: =CONCATENATE(C18,F18) -> 도국 | M18: =D18-E18 -> 0
A19: =A18+1 -> 13 | B19: 1014-2 | C19: 전 | D19: 79 | E19: 79 | F19: 김형* | G19: 정읍시 상동 146-1 3차현대아파트 ***-*** | H19: 0 | I19: 0 | J19: 0 | K19: 사유지 | L19: =CONCATENATE(C19,F19) -> 전김형* | M19: =D19-E19 -> 0 | P19: 사
A20: =A19+1 -> 14 | B20: 1014-6 | C20: 도 | D20: 17 | E20: 17 | F20: 김영* | G20: 산내면 중계리 | H20: 0 | I20: 0 | J20: 0 | K20: 사유지 | L20: =CONCATENATE(C20,F20) -> 도김영* | M20: =D20-E20 -> 0 | P20: 사
A21: =A20+1 -> 15 | B21: 1015-1 | C21: 묘 | D21: 61 | E21: 61 | F21: 윤락* | G21: 김제군 죽산면 번지리 | H21: 0 | I21: 0 | J21: 0 | K21: 사유지 | L21: =CONCATENATE(C21,F21) -> 묘윤락* | M21: =D21-E21 -> 0 | P21: 사
A22: =A21+1 -> 16 | B22: 1014-7 | C22: 전 | D22: 27 | E22: 27 | F22: 김형* | G22: 정읍시 상동 146-1 3차현대아파트 ***-*** | H22: 0 | I22: 0 | J22: 0 | K22: 사유지 | L22: =CONCATENATE(C22,F22) -> 전김형* | M22: =D22-E22 -> 0 | P22: 사
A23: =A22+1 -> 17 | B23: 1014-13 | C23: 도 | D23: 32 | E23: 32 | F23: 국 | G23: 국토교통부 | H23: 0 | I23: 0 | J23: 0 | L23: =CONCATENATE(C23,F23) -> 도국 | M23: =D23-E23 -> 0
A24: =A23+1 -> 18 | B24: 1014-1 | C24: 도 | D24: 186 | E24: 186 | F24: 김영* | G24: 산내면 중계리 | H24: 0 | I24: 0 | J24: 0 | K24: 사유지 | L24: =CONCATENATE(C24,F24) -> 도김영* | M24: =D24-E24 -> 0 | P24: 사
A25: =A24+1 -> 19 | B25: 1015 | C25: 도 | D25: 1351 | E25: 500 | F25: 국 | G25: 기획재정부 | H25: 0 | I25: 0 | J25: 0 | L25: =CONCATENATE(C25,F25) -> 도국 | M25: =D25-E25 -> 851
A26: =A25+1 -> 20 | B26: 1014-11 | C26: 도 | D26: 53 | E26: 53 | F26: 국 | G26: 국토교통부 | H26: 0 | I26: 0 | J26: 0 | L26: =CONCATENATE(C26,F26) -> 도국 | M26: =D26-E26 -> 0
A27: =A26+1 -> 21 | B27: 1014-3 | C27: 도 | D27: 101 | E27: 101 | F27: 국 | G27: 국토교통부 | H27: 0 | I27: 0 | J27: 0 | L27: =CONCATENATE(C27,F27) -> 도국 | M27: =D27-E27 -> 0
A28: =A27+1 -> 22 | B28: 1014-9 | C28: 도 | D28: 71 | E28: 71 | F28: 국 | G28: 기획재정부 | H28: 0 | I28: 0 | J28: 0 | L28: =CONCATENATE(C28,F28) -> 도국 | M28: =D28-E28 -> 0
A29: =A28+1 -> 23 | B29: 1015-3 | C29: 묘 | D29: 49 | E29: 21 | F29: 국 | G29: 기획재정부 | H29: 0 | I29: 0 | J29: 0 | L29: =CONCATENATE(C29,F29) -> 묘국 | M29: =D29-E29 -> 28
A30: =A29+1 -> 24 | B30: 1014-14 | C30: 도 | D30: 92 | E30: 92 | F30: 국 | G30: 기획재정부 | H30: 0 | I30: 0 | J30: 0 | L30: =CONCATENATE(C30,F30) -> 도국 | M30: =D30-E30 -> 0
A31: =A30+1 -> 25 | B31: 1006-1 | C31: 임 | D31: 345 | E31: 192 | F31: 이준* | G31: 광주시 광산구 월곡동 ***-* | K31: 사유지 | L31: =CONCATENATE(C31,F31) -> 임이준* | M31: =D31-E31 -> 153 | P31: 사
A32: =A31+1 -> 26 | B32: 1006-2 | C32: 도 | D32: 42 | E32: 17 | F32: 이준* | G32: 광주시 광산구 월곡동 ***-* | K32: 사유지 | L32: =CONCATENATE(C32,F32) -> 도이준* | M32: =D32-E32 -> 25 | P32: 사
A33: =A32+1 -> 27 | B33: 1006-5 | C33: 임 | D33: 1063 | E33: 1063 | F33: 국 | G33: 국토교통부 | H33: 0 | I33: 0 | J33: 0 | L33: =CONCATENATE(C33,F33) -> 임국 | M33: =D33-E33 -> 0
A34: =A33+1 -> 28 | B34: 1097-3 | C34: 도 | D34: 290 | E34: 11 | F34: 국 | G34: 국토교통부 | L34: =CONCATENATE(C34,F34) -> 도국 | M34: =D34-E34 -> 279
A35: =A34+1 -> 29 | B35: 1006-6 | C35: 도 | D35: 8 | E35: 8 | F35: 국 | G35: 국토교통부 | L35: =CONCATENATE(C35,F35) -> 도국 | M35: =D35-E35 -> 0
A36: =A35+1 -> 30 | B36: 1005-2 | C36: 도 | D36: 179 | E36: 168 | F36: 국 | G36: 국토교통부 | H36: 0 | I36: 0 | J36: 0 | L36: =CONCATENATE(C36,F36) -> 도국 | M36: =D36-E36 -> 11
A37: =A36+1 -> 31 | B37: 산148-16 | C37: 임 | D37: 276 | E37: 25 | F37: 국 | G37: 국토교통부 | L37: =CONCATENATE(C37,F37) -> 임국 | M37: =D37-E37 -> 251
A38: =A37+1 -> 32 | B38: 산148-17 | C38: 도 | D38: 106 | E38: 1 | F38: 공 | G38: 전라북도 | L38: =CONCATENATE(C38,F38) -> 도공 | M38: =D38-E38 -> 105
A39: =A38+1 -> 33 | B39: 산172-3 | C39: 임 | D39: 2110 | E39: 717 | F39: 국 | G39: 국토교통부 | L39: =CONCATENATE(C39,F39) -> 임국 | M39: =D39-E39 -> 1393
A40: =A39+1 -> 34 | B40: 1100 | C40: 도 | D40: 1610 | E40: 1565 | F40: 국 | G40: 국토교통부 | H40: 0 | I40: 0 | J40: 0 | L40: =CONCATENATE(C40,F40) -> 도국 | M40: =D40-E40 -> 45
A41: =A40+1 -> 35 | B41: 1021 | C41: 도 | D41: 1002 | E41: 1002 | F41: 국 | G41: 국토교통부 | H41: 0 | I41: 0 | J41: 0 | L41: =CONCATENATE(C41,F41) -> 도국 | M41: =D41-E41 -> 0
A42: =A41+1 -> 36 | B42: 1020-4 | C42: 도 | D42: 16 | E42: 16 | F42: 공 | G42: 전라북도 | H42: 0 | I42: 0 | J42: 0 | L42: =CONCATENATE(C42,F42) -> 도공 | M42: =D42-E42 -> 0
A43: =A42+1 -> 37 | B43: 1020-5 | C43: 도 | D43: 94 | E43: 94 | F43: 국 | G43: 국토교통부 | H43: 0 | I43: 0 | J43: 0 | L43: =CONCATENATE(C43,F43) -> 도국 | M43: =D43-E43 -> 0
A44: =A43+1 -> 38 | B44: 1020-2 | C44: 도 | D44: 689 | E44: 689 | F44: 국 | G44: 국토교통부 | H44: 0 | I44: 0 | J44: 0 | L44: =CONCATENATE(C44,F44) -> 도국 | M44: =D44-E44 -> 0
A45: =A44+1 -> 39 | B45: 1020-3 | C45: 도 | D45: 291 | E45: 291 | F45: 공 | G45: 전라북도 | H45: 0 | I45: 0 | J45: 0 | L45: =CONCATENATE(C45,F45) -> 도공 | M45: =D45-E45 -> 0
A46: =A45+1 -> 40 | B46: 1020-1 | C46: 도 | D46: 33 | E46: 33 | F46: 국 | G46: 국토교통부 | H46: 0 | I46: 0 | J46: 0 | L46: =CONCATENATE(C46,F46) -> 도국 | M46: =D46-E46 -> 0
A47: =A46+1 -> 41 | B47: 산171-6 | C47: 임 | D47: 4465 | E47: 1995 | F47: 국 | G47: 국토교통부 | H47: 0 | I47: 0 | J47: 0 | L47: =CONCATENATE(C47,F47) -> 임국 | M47: =D47-E47 -> 2470
A48: =A47+1 -> 42 | B48: 988-1 | C48: 도 | D48: 277 | E48: 277 | F48: 국 | G48: 국토교통부 | H48: 0 | I48: 0 | J48: 0 | L48: =CONCATENATE(C48,F48) -> 도국 | M48: =D48-E48 -> 0
A49: =A48+1 -> 43 | B49: 산171-1 | C49: 도 | D49: 99 | E49: 99 | F49: 국 | G49: 국토교통부 | H49: 0 | I49: 0 | J49: 0 | L49: =CONCATENATE(C49,F49) -> 도국 | M49: =D49-E49 -> 0
A50: =A49+1 -> 44 | B50: 988-2 | C50: 도 | D50: 60 | E50: 60 | F50: 공 | G50: 전라북도 | H50: 0 | I50: 0 | J50: 0 | L50: =CONCATENATE(C50,F50) -> 도공 | M50: =D50-E50 -> 0
A51: =A50+1 -> 45 | B51: 1019-2 | C51: 도 | D51: 234 | E51: 58 | F51: 국 | G51: 국토교통부 | H51: 0 | I51: 0 | J51: 0 | L51: =CONCATENATE(C51,F51) -> 도국 | M51: =D51-E51 -> 176
... A62: =A61+1 -> 56 | B62: 1013-1 | C62: 도 | D62: 1200 | E62: 1200 | F62: 공 | G62: 전라북도 | H62: 0 | I62: 0 | J62: 0 | L62: =CONCATENATE(C62,F62) -> 도공 | M62: =D62-E62 -> 0
A63: =A62+1 -> 57 | B63: 1010-1 | C63: 임 | D63: 275 | E63: 270 | F63: 양근* | G63: 행안 현역리 | H63: 0 | I63: 0 | J63: 0 | K63: 사유지 | L63: =CONCATENATE(C63,F63) -> 임양근* | M63: =D63-E63 -> 5 | P63: 사
A64: =A63+1 -> 58 | B64: 1010 | C64: 임 | D64: 558 | E64: 40 | F64: 임병두 | G64: 부안군 하서면 벽련리 *** | H64: 0 | I64: 0 | J64: 0 | K64: 사유지 | L64: =CONCATENATE(C64,F64) -> 임임병두 | M64: =D64-E64 -> 518 | P64: 사
A65: =A64+1 -> 59 | B65: 1014-8 | C65: 도 | D65: 80 | E65: 80 | F65: 국 | G65: 국토교통부 | H65: 0 | I65: 0 | J65: 0 | L65: =CONCATENATE(C65,F65) -> 도국 | M65: =D65-E65 -> 0
A66: =A65+1 -> 60 | B66: 1014-5 | C66: 도 | D66: 103 | E66: 103 | F66: 국 | G66: 국토교통부 | H66: 0 | I66: 0 | J66: 0 | L66: =CONCATENATE(C66,F66) -> 도국 | M66: =D66-E66 -> 0
A67: =A66+1 -> 61 | B67: 1009-6 | C67: 임 | D67: 202 | E67: 202 | F67: 국 | G67: 기획재정부 | H67: 0 | I67: 0 | J67: 0 | L67: =CONCATENATE(C67,F67) -> 임국 | M67: =D67-E67 -> 0
A68: =A67+1 -> 62 | B68: 1009-3 | C68: 임 | D68: 664 | E68: 365 | F68: 국 | G68: 기획재정부 | H68: 0 | I68: 0 | J68: 0 | L68: =CONCATENATE(C68,F68) -> 임국 | M68: =D68-E68 -> 299
A69: =A68+1 -> 63 | B69: 1009-1 | C69: 도 | D69: 2501 | E69: 2501 | F69: 국 | G69: 국토교통부 | H69: 0 | I69: 0 | J69: 0 | L69: =CONCATENATE(C69,F69) -> 도국 | M69: =D69-E69 -> 0
A70: =A69+1 -> 64 | B70: 1014-10 | C70: 도 | D70: 38 | E70: 38 | F70: 국 | G70: 국토교통부 | H70: 0 | I70: 0 | J70: 0 | L70: =CONCATENATE(C70,F70) -> 도국 | M70: =D70-E70 -> 0
A71: =A70+1 -> 65 | B71: 1009-2 | C71: 답 | D71: 1922 | E71: 1807 | F71: 유정* | G71: 전라북도 부안군 하서면 운암길 * | H71: 하서농업협동조합 | I71: 전라북도 부안군 하서면 하서길 49 | J71: 근저당권 | K71: 사유지 | L71: =CONCATENATE(C71,F71) -> 답유정* | M71: =D71-E71 -> 115 | P71: 사
A72: =A71+1 -> 66 | B72: 1009-5 | C72: 도 | D72: 471 | E72: 471 | F72: 국 | G72: 기획재정부 | H72: 0 | I72: 0 | J72: 0 | L72: =CONCATENATE(C72,F72) -> 도국 | M72: =D72-E72 -> 0
A73: =A72+1 -> 67 | B73: 1009-4 | C73: 답 | D73: 69 | E73: 19 | F73: 국 | G73: 기획재정부 | H73: 0 | I73: 0 | J73: 0 | L73: =CONCATENATE(C73,F73) -> 답국 | M73: =D73-E73 -> 50
A74: =A73+1 -> 68 | B74: 1009 | C74: 답 | D74: 1398 | E74: 684 | F74: 박종* | G74: 인천광역시 남동구 만수동 *-*** 대동아파트 *-*** | H74: 0 | I74: 0 | J74: 0 | K74: 사유지 | L74: =CONCATENATE(C74,F74) -> 답박종* | M74: =D74-E74 -> 714 | P74: 사
A75: =A74+1 -> 69 | B75: 991-1 | C75: 전 | D75: 1134 | E75: 603 | F75: 유정* | G75: 전라북도 부안군 하서면 운암길 * | H75: 하서농업협동조합 | I75: 전라북도 부안군 하서면 하서길 49 | J75: 근저당권 | K75: 사유지 | L75: =CONCATENATE(C75,F75) -> 전유정* | M75: =D75-E75 -> 531 | P75: 사
A76: =A75+1 -> 70 | B76: 1008-3 | C76: 답 | D76: 1694 | E76: 1694 | F76: 유정* | G76: 전라북도 부안군 하서면 운암길 * | H76: 하서농업협동조합 | I76: 전라북도 부안군 하서면 하서길 49 | J76: 근저당권 | K76: 사유지 | L76: =CONCATENATE(C76,F76) -> 답유정* | M76: =D76-E76 -> 0 | P76: 사
A77: =A76+1 -> 71 | B77: 1007-3 | C77: 답 | D77: 3856 | E77: 2812 | F77: 박종* | G77: 인천광역시 남동구 만수동 *-*** 대동아파트 *-*** | H77: 0 | I77: 0 | J77: 0 | K77: 사유지 | L77: =CONCATENATE(C77,F77) -> 답박종* | M77: =D77-E77 -> 1044 | P77: 사
A78: =A77+1 -> 72 | B78: 1008-2 | C78: 도 | D78: 347 | E78: 347 | F78: 국 | G78: 국토교통부 | H78: 0 | I78: 0 | J78: 0 | L78: =CONCATENATE(C78,F78) -> 도국 | M78: =D78-E78 -> 0
A79: =A78+1 -> 73 | B79: 1002-4 | C79: 도 | D79: 365 | E79: 326 | F79: 공 | G79: 전라북도 | H79: 0 | I79: 0 | J79: 0 | L79: =CONCATENATE(C79,F79) -> 도공 | M79: =D79-E79 -> 39
A80: =A79+1 -> 74 | B80: 1008-4 | C80: 도 | D80: 171 | E80: 171 | F80: 공 | G80: 전라북도 | H80: 0 | I80: 0 | J80: 0 | L80: =CONCATENATE(C80,F80) -> 도공 | M80: =D80-E80 -> 0
A81: =A80+1 -> 75 | B81: 1008-1 | C81: 도 | D81: 279 | E81: 279 | F81: 국 | G81: 국토교통부 | H81: 0 | I81: 0 | J81: 0 | L81: =CONCATENATE(C81,F81) -> 도국 | M81: =D81-E81 -> 0
A82: =A81+1 -> 76 | B82: 1007-2 | C82: 도 | D82: 476 | E82: 405 | F82: 국 | G82: 국토교통부 | H82: 0 | I82: 0 | J82: 0 | L82: =CONCATENATE(C82,F82) -> 도국 | M82: =D82-E82 -> 71
A83: =A82+1 -> 77 | B83: 1007-7 | C83: 답 | D83: 82 | E83: 22 | F83: 박종* | G83: 경기도 화성시 10용사로 ***, ****동 ****호 (능동, 송골마을 우남퍼스트빌아파트) | H83: 0 | I83: 0 | J83: 0 | K83: 사유지 | L83: =CONCATENATE(C83,F83) -> 답박종* | M83: =D83-E83 -> 60 | P83: 사
A84: =A83+1 -> 78 | B84: 1007-4 | C84: 도 | D84: 194 | E84: 146 | F84: 공 | G84: 전라북도 | H84: 0 | I84: 0 | J84: 0 | L84: =CONCATENATE(C84,F84) -> 도공 | M84: =D84-E84 -> 48
A85: =A84+1 -> 79 | B85: 1007-8 | C85: 답 | D85: 239 | E85: 222 | F85: 국 | G85: 국토교통부 | H85: 0 | I85: 0 | J85: 0 | L85: =CONCATENATE(C85,F85) -> 답국 | M85: =D85-E85 -> 17
A86: =A85+1 -> 80 | B86: 1002-1 | C86: 도 | D86: 40 | E86: 1 | F86: 국 | G86: 국토교통부 | H86: 0 | I86: 0 | J86: 0 | L86: =CONCATENATE(C86,F86) -> 도국 | M86: =D86-E86 -> 39
A87: =A86+1 -> 81 | B87: 1007-1 | C87: 답 | D87: 334 | E87: 78 | F87: 이기* | G87: 전라북도 부안군 하서면 비득길 * | H87: 0 | I87: 0 | J87: 0 | K87: 사유지 | L87: =CONCATENATE(C87,F87) -> 답이기* | M87: =D87-E87 -> 256 | P87: 사
A88: =A87+1 -> 82 | B88: 1003-9 | C88: 도 | D88: 959 | E88: 584 | F88: 국 | G88: 기획재정부 | H88: 0 | I88: 0 | J88: 0 | L88: =CONCATENATE(C88,F88) -> 도국 | M88: =D88-E88 -> 375
A89: =A88+1 -> 83 | B89: 795-3 | C89: 대 | D89: 102 | E89: 18 | F89: 국 | G89: 기획재정부 | L89: =CONCATENATE(C89,F89) -> 대국 | M89: =D89-E89 -> 84
A90: =A89+1 -> 84 | B90: 795-13 | C90: 도 | D90: 589 | E90: 579 | F90: 국 | G90: 국토교통부 | H90: 0 | I90: 0 | J90: 0 | L90: =CONCATENATE(C90,F90) -> 도국 | M90: =D90-E90 -> 10
A91: =A90+1 -> 85 | B91: 795-12 | C91: 도 | D91: 110 | E91: 40 | F91: 국 | G91: 국토교통부 | H91: 0 | I91: 0 | J91: 0 | L91: =CONCATENATE(C91,F91) -> 도국 | M91: =D91-E91 -> 70
A92: =A91+1 -> 86 | B92: 1097-4 | C92: 도 | D92: 223 | E92: 156 | F92: 국 | G92: 국토교통부 | H92: 0 | I92: 0 | J92: 0 | L92: =CONCATENATE(C92,F92) -> 도국 | M92: =D92-E92 -> 67
A93: =A92+1 -> 87 | B93: 1005-7 | C93: 임 | D93: 1212 | E93: 717 | F93: 국 | G93: 국토교통부 | H93: 0 | I93: 0 | J93: 0 | L93: =CONCATENATE(C93,F93) -> 임국 | M93: =D93-E93 -> 495
A94: =A93+1 -> 88 | B94: 산148-5 | C94: 도 | D94: 1235 | E94: 545 | F94: 국 | G94: 국토교통부 | L94: =CONCATENATE(C94,F94) -> 도국 | M94: =D94-E94 -> 690
A95: =A94+1 -> 89 | B95: 산148-15 | C95: 도 | D95: 622 | E95: 214 | F95: 공 | G95: 전라북도 | L95: =CONCATENATE(C95,F95) -> 도공 | M95: =D95-E95 -> 408
A96: =A95+1 -> 90 | B96: 산148-7 | C96: 도 | D96: 211 | E96: 12 | F96: 공 | G96: 전라북도 | L96: =CONCATENATE(C96,F96) -> 도공 | M96: =D96-E96 -> 199
A97: =A96+1 -> 91 | B97: 산148-4 | C97: 도 | D97: 1935 | E97: 1 | F97: 국 | G97: 국토교통부 | L97: =CONCATENATE(C97,F97) -> 도국 | M97: =D97-E97 -> 1934
A98: =A97+1 -> 92 | B98: 산148-14 | C98: 임 | D98: 2088 | E98: 6 | F98: 국 | G98: 국토교통부 | L98: =CONCATENATE(C98,F98) -> 임국 | M98: =D98-E98 -> 2082
A99: =A98+1 -> 93 | B99: 1006-3 | C99: 임 | D99: 7 | E99: 1 | F99: 이준* | G99: 광주시 광산구 월곡동 ***-* | K99: 사유지 | L99: =CONCATENATE(C99,F99) -> 임이준* | M99: =D99-E99 -> 6 | P99: 사
A100: =A99+1 -> 94 | B100: 1005-1 | C100: 임 | D100: 637 | E100: 15 | F100: 이준* | G100: 광주시 광산구 월곡동 ***-* | K100: 사유지 | L100: =CONCATENATE(C100,F100) -> 임이준* | M100: =D100-E100 -> 622 | P100: 사
A101: =A100+1 -> 95 | B101: 공유수면 | C101: 해 | E101: 660039 | F101: 국 | L101: =CONCATENATE(C101,F101) -> 해국 | M101: =D101-E101 -> -660039
